BEGIN:VCALENDAR
VERSION:2.0
PRODID:-//Hospitality and Events Packages | Unlimited Joy - ECPv6.15.20//NONSGML v1.0//EN
CALSCALE:GREGORIAN
METHOD:PUBLISH
X-WR-CALNAME:Hospitality and Events Packages | Unlimited Joy
X-ORIGINAL-URL:https://unlimitedjoy.co.uk
X-WR-CALDESC:Events for Hospitality and Events Packages | Unlimited Joy
REFRESH-INTERVAL;VALUE=DURATION:PT1H
X-Robots-Tag:noindex
X-PUBLISHED-TTL:PT1H
BEGIN:VTIMEZONE
TZID:UTC
BEGIN:STANDARD
TZOFFSETFROM:+0000
TZOFFSETTO:+0000
TZNAME:UTC
DTSTART:20240101T000000
END:STANDARD
END:VTIMEZONE
BEGIN:VEVENT
DTSTART;VALUE=DATE:20250625
DTEND;VALUE=DATE:20250630
DTSTAMP:20260422T233430
CREATED:20230315T153448Z
LAST-MODIFIED:20240911T121154Z
UID:10000118-1750809600-1751241599@unlimitedjoy.co.uk
SUMMARY:Glastonbury Festival
DESCRIPTION:
URL:https://unlimitedjoy.co.uk/event/glastonbury-festival/
LOCATION:Worthy Farm\, Pilton\, BA4 4BY
CATEGORIES:Music
ATTACH;FMTTYPE=image/jpeg:https://unlimitedjoy.co.uk/wp-content/uploads/2023/09/8e60b6df-35d2-4fc3-a6cf-e5ede5abfa88.jpg
END:VEVENT
END:VCALENDAR