BEGIN:VCALENDAR
VERSION:2.0
PRODID:-//Hospitality and Events Packages | Unlimited Joy - ECPv6.15.20//NONSGML v1.0//EN
CALSCALE:GREGORIAN
METHOD:PUBLISH
X-WR-CALNAME:Hospitality and Events Packages | Unlimited Joy
X-ORIGINAL-URL:https://unlimitedjoy.co.uk
X-WR-CALDESC:Events for Hospitality and Events Packages | Unlimited Joy
REFRESH-INTERVAL;VALUE=DURATION:PT1H
X-Robots-Tag:noindex
X-PUBLISHED-TTL:PT1H
BEGIN:VTIMEZONE
TZID:UTC
BEGIN:STANDARD
TZOFFSETFROM:+0000
TZOFFSETTO:+0000
TZNAME:UTC
DTSTART:20240101T000000
END:STANDARD
END:VTIMEZONE
BEGIN:VEVENT
DTSTART;VALUE=DATE:20250710
DTEND;VALUE=DATE:20250714
DTSTAMP:20260422T220640
CREATED:20230317T131229Z
LAST-MODIFIED:20240910T122538Z
UID:10000181-1752105600-1752451199@unlimitedjoy.co.uk
SUMMARY:Genesis Scottish Open
DESCRIPTION:Hospitality Packages
URL:https://unlimitedjoy.co.uk/event/scottish-open/
LOCATION:Troon\, Scotland
CATEGORIES:Golf,Sports
ATTACH;FMTTYPE=image/jpeg:https://unlimitedjoy.co.uk/wp-content/uploads/2023/07/9f6ccc86-8564-4d5d-922f-62285b9477ad-scaled.jpg
END:VEVENT
END:VCALENDAR