BEGIN:VCALENDAR
VERSION:2.0
PRODID:-//Hospitality and Events Packages | Unlimited Joy - ECPv6.15.20//NONSGML v1.0//EN
CALSCALE:GREGORIAN
METHOD:PUBLISH
X-WR-CALNAME:Hospitality and Events Packages | Unlimited Joy
X-ORIGINAL-URL:https://unlimitedjoy.co.uk
X-WR-CALDESC:Events for Hospitality and Events Packages | Unlimited Joy
REFRESH-INTERVAL;VALUE=DURATION:PT1H
X-Robots-Tag:noindex
X-PUBLISHED-TTL:PT1H
BEGIN:VTIMEZONE
TZID:UTC
BEGIN:STANDARD
TZOFFSETFROM:+0000
TZOFFSETTO:+0000
TZNAME:UTC
DTSTART:20240101T000000
END:STANDARD
END:VTIMEZONE
BEGIN:VEVENT
DTSTART;VALUE=DATE:20250908
DTEND;VALUE=DATE:20250909
DTSTAMP:20260423T023632
CREATED:20230918T133154Z
LAST-MODIFIED:20250227T131643Z
UID:10005558-1757289600-1757375999@unlimitedjoy.co.uk
SUMMARY:Kia Oval
DESCRIPTION:  \n 
URL:https://unlimitedjoy.co.uk/event/kia-oval/2025-09-08/
LOCATION:The Oval Cricket Ground\, Kennington\, SE11 5SS\, United Kingdom
CATEGORIES:Cricket,Sports
ATTACH;FMTTYPE=image/jpeg:https://unlimitedjoy.co.uk/wp-content/uploads/2023/03/Kia-Oval.jpg
END:VEVENT
BEGIN:VEVENT
DTSTART;VALUE=DATE:20250901
DTEND;VALUE=DATE:20250902
DTSTAMP:20260423T023632
CREATED:20230918T133154Z
LAST-MODIFIED:20250227T131643Z
UID:10005444-1756713600-1756746000@unlimitedjoy.co.uk
SUMMARY:Kia Oval
DESCRIPTION:  \n 
URL:https://unlimitedjoy.co.uk/event/kia-oval/2025-09-01/
LOCATION:The Oval Cricket Ground\, Kennington\, SE11 5SS\, United Kingdom
CATEGORIES:Cricket,Sports
ATTACH;FMTTYPE=image/jpeg:https://unlimitedjoy.co.uk/wp-content/uploads/2023/03/Kia-Oval.jpg
END:VEVENT
END:VCALENDAR