BEGIN:VCALENDAR
VERSION:2.0
PRODID:-//Hospitality and Events Packages | Unlimited Joy - ECPv6.15.20//NONSGML v1.0//EN
CALSCALE:GREGORIAN
METHOD:PUBLISH
X-WR-CALNAME:Hospitality and Events Packages | Unlimited Joy
X-ORIGINAL-URL:https://unlimitedjoy.co.uk
X-WR-CALDESC:Events for Hospitality and Events Packages | Unlimited Joy
REFRESH-INTERVAL;VALUE=DURATION:PT1H
X-Robots-Tag:noindex
X-PUBLISHED-TTL:PT1H
BEGIN:VTIMEZONE
TZID:UTC
BEGIN:STANDARD
TZOFFSETFROM:+0000
TZOFFSETTO:+0000
TZNAME:UTC
DTSTART:20240101T000000
END:STANDARD
END:VTIMEZONE
BEGIN:VEVENT
DTSTART;VALUE=DATE:20251229
DTEND;VALUE=DATE:20260101
DTSTAMP:20260422T174049
CREATED:20230316T093128Z
LAST-MODIFIED:20250227T143838Z
UID:10000167-1766966400-1767225599@unlimitedjoy.co.uk
SUMMARY:The Nutcracker
DESCRIPTION:Hospitality Packages
URL:https://unlimitedjoy.co.uk/event/the-nutcracker-royal-opera-house/
LOCATION:Royal Albert Hall\, United Kingdom
CATEGORIES:Arts, Theatre & Comedy,Culture
ATTACH;FMTTYPE=image/jpeg:https://unlimitedjoy.co.uk/wp-content/uploads/2023/07/58a02deb-ff89-411f-8733-60f905817072.jpg
END:VEVENT
BEGIN:VEVENT
DTSTART;VALUE=DATE:20251201
DTEND;VALUE=DATE:20251202
DTSTAMP:20260422T174049
CREATED:20230316T093125Z
LAST-MODIFIED:20250227T143506Z
UID:10000166-1764547200-1764633599@unlimitedjoy.co.uk
SUMMARY:British Fashion Awards
DESCRIPTION:Hospitality Packages
URL:https://unlimitedjoy.co.uk/event/british-fashion-awards/
LOCATION:Royal Albert Hall\, United Kingdom
CATEGORIES:Culture
ATTACH;FMTTYPE=image/jpeg:https://unlimitedjoy.co.uk/wp-content/uploads/2023/07/365ae163-179a-4f33-8a55-b38cd9762c07.jpg
END:VEVENT
BEGIN:VEVENT
DTSTART;VALUE=DATE:20250913
DTEND;VALUE=DATE:20250914
DTSTAMP:20260422T174049
CREATED:20230316T082612Z
LAST-MODIFIED:20240913T115855Z
UID:10000144-1757721600-1757807999@unlimitedjoy.co.uk
SUMMARY:Last Night of the Proms
DESCRIPTION:H4: Hospitality Packages
URL:https://unlimitedjoy.co.uk/event/last-night-of-the-proms/
LOCATION:Royal Albert Hall\, United Kingdom
CATEGORIES:Culture,Music
ATTACH;FMTTYPE=image/jpeg:https://unlimitedjoy.co.uk/wp-content/uploads/2023/07/6a6ff437-59a2-4c30-b94a-beb668204799-scaled.jpg
END:VEVENT
BEGIN:VEVENT
DTSTART;VALUE=DATE:20250325
DTEND;VALUE=DATE:20250326
DTSTAMP:20260422T174049
CREATED:20240925T135324Z
LAST-MODIFIED:20250227T140213Z
UID:10005538-1742860800-1742947199@unlimitedjoy.co.uk
SUMMARY:An Evening of Comedy hosted by Micky Flanagan
DESCRIPTION:25 March 2025 – Royal Albert Hall\, London
URL:https://unlimitedjoy.co.uk/event/micky-flanagan/
LOCATION:Royal Albert Hall\, United Kingdom
CATEGORIES:Arts, Theatre & Comedy
ATTACH;FMTTYPE=image/jpeg:https://unlimitedjoy.co.uk/wp-content/uploads/2024/09/qtq80-nr2Zwu.jpeg
END:VEVENT
BEGIN:VEVENT
DTSTART;VALUE=DATE:20250306
DTEND;VALUE=DATE:20250307
DTSTAMP:20260422T174049
CREATED:20241203T113704Z
LAST-MODIFIED:20241203T113704Z
UID:10005555-1741219200-1741305599@unlimitedjoy.co.uk
SUMMARY:Annie Lennox
DESCRIPTION:6 March 2025: Royal Albert Hall\, London
URL:https://unlimitedjoy.co.uk/event/annie-lennox/
LOCATION:Royal Albert Hall\, United Kingdom
CATEGORIES:Music
ATTACH;FMTTYPE=image/jpeg:https://unlimitedjoy.co.uk/wp-content/uploads/2024/12/annie-lennox-scaled.jpg
END:VEVENT
BEGIN:VEVENT
DTSTART;VALUE=DATE:20250302
DTEND;VALUE=DATE:20250303
DTSTAMP:20260422T174049
CREATED:20230315T101254Z
LAST-MODIFIED:20250228T125845Z
UID:10000002-1740873600-1740959999@unlimitedjoy.co.uk
SUMMARY:Cirque du Soleil - Corteo
DESCRIPTION:Hospitality Packages\n \nBooking until 2 March 2025
URL:https://unlimitedjoy.co.uk/event/cirque-du-soleil-alegria-in-a-new-light/
LOCATION:Royal Albert Hall\, United Kingdom
CATEGORIES:Arts, Theatre & Comedy,Culture
ATTACH;FMTTYPE=image/jpeg:https://unlimitedjoy.co.uk/wp-content/uploads/2023/07/6a6ff437-59a2-4c30-b94a-beb668204799-scaled.jpg
END:VEVENT
END:VCALENDAR