BEGIN:VCALENDAR
VERSION:2.0
PRODID:-//Hospitality and Events Packages | Unlimited Joy - ECPv6.15.20//NONSGML v1.0//EN
CALSCALE:GREGORIAN
METHOD:PUBLISH
X-ORIGINAL-URL:https://unlimitedjoy.co.uk
X-WR-CALDESC:Events for Hospitality and Events Packages | Unlimited Joy
REFRESH-INTERVAL;VALUE=DURATION:PT1H
X-Robots-Tag:noindex
X-PUBLISHED-TTL:PT1H
BEGIN:VTIMEZONE
TZID:UTC
BEGIN:STANDARD
TZOFFSETFROM:+0000
TZOFFSETTO:+0000
TZNAME:UTC
DTSTART:20230101T000000
END:STANDARD
END:VTIMEZONE
BEGIN:VEVENT
DTSTART;VALUE=DATE:20250715
DTEND;VALUE=DATE:20250919
DTSTAMP:20260422T191544
CREATED:20230918T140442Z
LAST-MODIFIED:20250227T133826Z
UID:10005559-1752537600-1758239999@unlimitedjoy.co.uk
SUMMARY:Old Trafford
DESCRIPTION:Test Match \nEngland v India – 23-27 July 2025 \n  \nIT20 \nEngland v India (Women’s) –  9 July 2025 \nEngland v South Africa – 12 September 2025 \n  \n  \n  \n 
URL:https://unlimitedjoy.co.uk/event/old-trafford/2025-07-15/
LOCATION:Lancashire Cricket Club\, M16 0PX\, United Kingdom
CATEGORIES:Cricket,Sports
ATTACH;FMTTYPE=image/jpeg:https://unlimitedjoy.co.uk/wp-content/uploads/2023/03/Old-Trafford-Cricket-Ground.jpg
END:VEVENT
BEGIN:VEVENT
DTSTART;VALUE=DATE:20240915
DTEND;VALUE=DATE:20240920
DTSTAMP:20260422T191544
CREATED:20230918T140442Z
LAST-MODIFIED:20250227T133826Z
UID:10004175-1726410600-1726776000@unlimitedjoy.co.uk
SUMMARY:Old Trafford
DESCRIPTION:Test Match \nEngland v India – 23-27 July 2025 \n  \nIT20 \nEngland v India (Women’s) –  9 July 2025 \nEngland v South Africa – 12 September 2025 \n  \n  \n  \n 
URL:https://unlimitedjoy.co.uk/event/old-trafford/2024-09-15/
LOCATION:Lancashire Cricket Club\, M16 0PX\, United Kingdom
CATEGORIES:Cricket,Sports
ATTACH;FMTTYPE=image/jpeg:https://unlimitedjoy.co.uk/wp-content/uploads/2023/03/Old-Trafford-Cricket-Ground.jpg
END:VEVENT
END:VCALENDAR