BEGIN:VCALENDAR
VERSION:2.0
PRODID:-//Hospitality and Events Packages | Unlimited Joy - ECPv6.15.20//NONSGML v1.0//EN
CALSCALE:GREGORIAN
METHOD:PUBLISH
X-ORIGINAL-URL:https://unlimitedjoy.co.uk
X-WR-CALDESC:Events for Hospitality and Events Packages | Unlimited Joy
REFRESH-INTERVAL;VALUE=DURATION:PT1H
X-Robots-Tag:noindex
X-PUBLISHED-TTL:PT1H
BEGIN:VTIMEZONE
TZID:UTC
BEGIN:STANDARD
TZOFFSETFROM:+0000
TZOFFSETTO:+0000
TZNAME:UTC
DTSTART:20240101T000000
END:STANDARD
END:VTIMEZONE
BEGIN:VEVENT
DTSTART;VALUE=DATE:20250624
DTEND;VALUE=DATE:20250628
DTSTAMP:20260422T190651
CREATED:20230315T153234Z
LAST-MODIFIED:20240910T121441Z
UID:10000109-1750723200-1751068799@unlimitedjoy.co.uk
SUMMARY:Giorgio Armani Tennis Classic
DESCRIPTION:Hospitality Packages \n 
URL:https://unlimitedjoy.co.uk/event/giorgio-armani-tennis-classic/
LOCATION:Hurlingham Club\, United Kingdom
CATEGORIES:Sports,Tennis
ATTACH;FMTTYPE=image/jpeg:https://unlimitedjoy.co.uk/wp-content/uploads/2023/03/Tennis-Classic-at-the-Hurlingham-Club.jpg
END:VEVENT
BEGIN:VEVENT
DTSTART;VALUE=DATE:20250624
DTEND;VALUE=DATE:20250629
DTSTAMP:20260422T190651
CREATED:20230315T153035Z
LAST-MODIFIED:20240910T110537Z
UID:10000104-1750723200-1751155199@unlimitedjoy.co.uk
SUMMARY:Boodles Tennis Championship
DESCRIPTION:Hospitality Packages\nComing soon.
URL:https://unlimitedjoy.co.uk/event/boodles-tennis-championship/
LOCATION:Stoke Park\, United Kingdom
CATEGORIES:Sports,Tennis
ATTACH;FMTTYPE=image/jpeg:https://unlimitedjoy.co.uk/wp-content/uploads/2023/07/f9d13bb5-e39a-4025-8dd9-7ecc1ebccb01.jpg
END:VEVENT
BEGIN:VEVENT
DTSTART;VALUE=DATE:20250620
DTEND;VALUE=DATE:20250903
DTSTAMP:20260422T190651
CREATED:20230918T131020Z
LAST-MODIFIED:20250227T120826Z
UID:10004142-1750377600-1756857599@unlimitedjoy.co.uk
SUMMARY:Headingley
DESCRIPTION:Test \nIndia v England – 20 June 2025 \n  \nODI \nSouth Africa v England – 2 September 2025
URL:https://unlimitedjoy.co.uk/event/headingley/
LOCATION:Yorkshire County Cricket Ground\, Leeds\, LS6 3DP\, United Kingdom
CATEGORIES:Cricket,Sports
ATTACH;FMTTYPE=image/jpeg:https://unlimitedjoy.co.uk/wp-content/uploads/2023/09/ed7a028d-3fef-4244-a84d-e9fe76e93c61.jpg
END:VEVENT
BEGIN:VEVENT
DTSTART;VALUE=DATE:20250617
DTEND;VALUE=DATE:20250622
DTSTAMP:20260422T190651
CREATED:20230315T152959Z
LAST-MODIFIED:20240910T121134Z
UID:10000102-1750118400-1750550399@unlimitedjoy.co.uk
SUMMARY:Royal Ascot
DESCRIPTION:Hospitality Packages
URL:https://unlimitedjoy.co.uk/event/royal-ascot/
LOCATION:Ascot Racecourse\, Berkshire\, United Kingdom
CATEGORIES:Horse Racing,Sports
ATTACH;FMTTYPE=image/jpeg:https://unlimitedjoy.co.uk/wp-content/uploads/2023/03/Royal-Ascot-scaled.jpg
END:VEVENT
BEGIN:VEVENT
DTSTART;VALUE=DATE:20250616
DTEND;VALUE=DATE:20250623
DTSTAMP:20260422T190651
CREATED:20230315T153018Z
LAST-MODIFIED:20240913T125027Z
UID:10000103-1750032000-1750636799@unlimitedjoy.co.uk
SUMMARY:Cinch Championships
DESCRIPTION:Hospitality Packages\nComing soon.
URL:https://unlimitedjoy.co.uk/event/cinch-tennis/
LOCATION:Queen’s Club\, W14 9EQ
CATEGORIES:Sports,Tennis
ATTACH;FMTTYPE=image/jpeg:https://unlimitedjoy.co.uk/wp-content/uploads/2023/07/e2a0e94a-f91d-4794-9e54-d5c2180ed68a-scaled.jpg
END:VEVENT
BEGIN:VEVENT
DTSTART;VALUE=DATE:20250612
DTEND;VALUE=DATE:20250616
DTSTAMP:20260422T190651
CREATED:20230315T153128Z
LAST-MODIFIED:20240910T120808Z
UID:10000106-1749686400-1750031999@unlimitedjoy.co.uk
SUMMARY:US Open Golf
DESCRIPTION:
URL:https://unlimitedjoy.co.uk/event/us-open-golf/
CATEGORIES:Golf,Sports
ATTACH;FMTTYPE=image/jpeg:https://unlimitedjoy.co.uk/wp-content/uploads/2023/07/60744d14-4053-48b2-a7f3-17375500d6bb.jpg
END:VEVENT
BEGIN:VEVENT
DTSTART;VALUE=DATE:20250611
DTEND;VALUE=DATE:20250901
DTSTAMP:20260422T190651
CREATED:20230918T133905Z
LAST-MODIFIED:20250227T125823Z
UID:10004161-1749600000-1756684799@unlimitedjoy.co.uk
SUMMARY:Lord's
DESCRIPTION:Test Match\n \nAustralia v South Africa (Championship Final)  – 11 – 14 June 2025 \nEngland v India – 10 – 14 July 2025 \n  \nODI \nEngland v India (Women’s) – 19 July 2025 \nEngland v South Africa – 4 September 2025 \n  \nThe Hundred Finals\nTBC v TBC – 31st August 2025 \n  \n  \n 
URL:https://unlimitedjoy.co.uk/event/lords/
LOCATION:Lords Cricket Ground\, St Johns Wood\, NW8 8QN\, United Kingdom
CATEGORIES:Cricket,Sports
ATTACH;FMTTYPE=image/jpeg:https://unlimitedjoy.co.uk/wp-content/uploads/2023/09/c3eb8919-eca4-455e-b676-75b7f93413fb.jpg
END:VEVENT
BEGIN:VEVENT
DTSTART;VALUE=DATE:20250611
DTEND;VALUE=DATE:20250616
DTSTAMP:20260422T190651
CREATED:20230317T100938Z
LAST-MODIFIED:20240909T102219Z
UID:10000176-1749600000-1750031999@unlimitedjoy.co.uk
SUMMARY:World Test Championship
DESCRIPTION:Hospitality Packages\nComing soon.
URL:https://unlimitedjoy.co.uk/event/world-test-championship/
CATEGORIES:Cricket,Sports
ATTACH;FMTTYPE=image/jpeg:https://unlimitedjoy.co.uk/wp-content/uploads/2023/03/Edgbaston-Cricket-Ground.jpg
END:VEVENT
BEGIN:VEVENT
DTSTART;VALUE=DATE:20250611
DTEND;VALUE=DATE:20250616
DTSTAMP:20260422T190651
CREATED:20230315T152942Z
LAST-MODIFIED:20240910T120917Z
UID:10000101-1749600000-1750031999@unlimitedjoy.co.uk
SUMMARY:24 HR Le Mans
DESCRIPTION:
URL:https://unlimitedjoy.co.uk/event/24-hr-le-mans/
LOCATION:Le Mans\, France
CATEGORIES:Motorsports,Sports
ATTACH;FMTTYPE=image/jpeg:https://unlimitedjoy.co.uk/wp-content/uploads/2023/09/fdbc28dc-55c4-4c6d-b29f-6a71bdbfb975.jpg
END:VEVENT
BEGIN:VEVENT
DTSTART;VALUE=DATE:20250610
DTEND;VALUE=DATE:20250908
DTSTAMP:20260422T190651
CREATED:20230918T140139Z
LAST-MODIFIED:20250227T121942Z
UID:10004173-1749513600-1757289599@unlimitedjoy.co.uk
SUMMARY:Ageas Bowl
DESCRIPTION:IT20 \nEngland v West Indies – 10 June 2025 \n  \nODI \nEngland v India (Women’s) – 16 July 2025 \nEngland v South Africa – 7 September 2025 \n  \n  \n  \n 
URL:https://unlimitedjoy.co.uk/event/ageas-bowl/
LOCATION:Ageas Bowl Cricket Ground\, Southampton\, SO30 3RS\, United Kingdom
CATEGORIES:Cricket,Sports
ATTACH;FMTTYPE=image/jpeg:https://unlimitedjoy.co.uk/wp-content/uploads/2023/09/2081dfc3-0ea7-4c71-a57e-f9c8828f9218.jpg
END:VEVENT
BEGIN:VEVENT
DTSTART;VALUE=DATE:20250606
DTEND;VALUE=DATE:20250609
DTSTAMP:20260422T190651
CREATED:20240910T120533Z
LAST-MODIFIED:20240910T120533Z
UID:10005456-1749168000-1749427199@unlimitedjoy.co.uk
SUMMARY:Chestersons Polo in the Park
DESCRIPTION:Hospitality Packages
URL:https://unlimitedjoy.co.uk/event/chestersons-polo-in-the-park/
CATEGORIES:Horse Racing,Sports
ATTACH;FMTTYPE=image/jpeg:https://unlimitedjoy.co.uk/wp-content/uploads/2023/07/93820911-a1b3-42b6-945c-95924992b0d2-scaled.jpg
END:VEVENT
BEGIN:VEVENT
DTSTART;VALUE=DATE:20250606
DTEND;VALUE=DATE:20250608
DTSTAMP:20260422T190651
CREATED:20230315T152858Z
LAST-MODIFIED:20240910T120243Z
UID:10000100-1749168000-1749340799@unlimitedjoy.co.uk
SUMMARY:Epsom Derby
DESCRIPTION:Hospitality Packages
URL:https://unlimitedjoy.co.uk/event/epsom-derby/
LOCATION:Epsom Downs Racecourse\, KT18 5LQ
CATEGORIES:Horse Racing,Sports
ATTACH;FMTTYPE=image/jpeg:https://unlimitedjoy.co.uk/wp-content/uploads/2023/07/93820911-a1b3-42b6-945c-95924992b0d2-scaled.jpg
END:VEVENT
BEGIN:VEVENT
DTSTART;VALUE=DATE:20250531
DTEND;VALUE=DATE:20250601
DTSTAMP:20260422T190651
CREATED:20230315T152845Z
LAST-MODIFIED:20250318T112241Z
UID:10000099-1748649600-1748735999@unlimitedjoy.co.uk
SUMMARY:UEFA Champions League Final
DESCRIPTION:
URL:https://unlimitedjoy.co.uk/event/uefa-champions-league-final/
LOCATION:Allianz Arena\, Munich\, Germany
CATEGORIES:Football,Sports
ATTACH;FMTTYPE=image/jpeg:https://unlimitedjoy.co.uk/wp-content/uploads/2023/03/Football-Match.jpg
END:VEVENT
BEGIN:VEVENT
DTSTART;VALUE=DATE:20250529
DTEND;VALUE=DATE:20250914
DTSTAMP:20260422T190651
CREATED:20230918T132547Z
LAST-MODIFIED:20250318T115038Z
UID:10004149-1748476800-1757807999@unlimitedjoy.co.uk
SUMMARY:Edgbaston
DESCRIPTION:ODI \nEngland v West Indies – 29 May 2025 \n  \nTest Match \nEngland v India – 2 July 2025 \n  \nIT20 \nEngland v India (Women’s) – 12 July 2025 \n  \nVitality Blast Finals Day \nTBC v TBC – 13 September 2025 \n  \n 
URL:https://unlimitedjoy.co.uk/event/edgbaston/
LOCATION:Edgbaston Cricket Ground\, Birmingham\, B5 7QU\, United Kingdom
CATEGORIES:Cricket,Sports
ATTACH;FMTTYPE=image/jpeg:https://unlimitedjoy.co.uk/wp-content/uploads/2023/09/057ed66e-2254-42fb-a670-6c045117dab2-scaled.jpg
END:VEVENT
BEGIN:VEVENT
DTSTART;VALUE=DATE:20250525
DTEND;VALUE=DATE:20250609
DTSTAMP:20260422T190651
CREATED:20230315T151920Z
LAST-MODIFIED:20240910T111313Z
UID:10000091-1748131200-1749427199@unlimitedjoy.co.uk
SUMMARY:Roland Garros French Open
DESCRIPTION:
URL:https://unlimitedjoy.co.uk/event/roland-garros-french-open/
CATEGORIES:Sports,Tennis
ATTACH;FMTTYPE=image/jpeg:https://unlimitedjoy.co.uk/wp-content/uploads/2023/07/51aca0db-7ef2-4129-912f-d029bf3e9ef9-scaled.jpg
END:VEVENT
BEGIN:VEVENT
DTSTART;VALUE=DATE:20250523
DTEND;VALUE=DATE:20250526
DTSTAMP:20260422T190651
CREATED:20230317T095822Z
LAST-MODIFIED:20240910T124132Z
UID:10000170-1747958400-1748217599@unlimitedjoy.co.uk
SUMMARY:British Grand Prix MotoGP™
DESCRIPTION:Hospitality Packages \n\nHeritage Club\nSituated within the historic Woodcote complex with views over the old pit straight\, you are invited to celebrate the rich history of motorsport and get closer to the action than ever before. This shared hospitality experience offers casual best-of-British dining and a classic beverage menu allowing guests to catch all the racing action from the comfort and convenience of a social hospitality lounge. \nHeritage Club hospitality package includes: \n\nTicket includes inner track access as well as other benefits\nPersonal Silverstone radio\nBreakfast buffet\nLunch buffet\nAfternoon tea\nAssortment of snacks throughout the day\nComplimentary bar service with a wide selection of wines\, beers\, soft drinks\, and hot beverages\, including unlimited sparkling wine\nOptional cash bar available for premium spirits and Champagne\nGuest compère (on Saturday and Sunday)\nReserved hospitality parking\nElevated balcony views\n\nLegends Club\nLocated between the Brooklands and Luffield corners\, this stretch of track is synonymous with some of the most iconic moments in racing history. Legends Club – with its panoramic views across the high-speed Wellington Straight – offers guests one of Silverstone’s best viewing experiences\, including all the drama as bikes brake hard into Brooklands\, then fly down the straight before squealing into Luffield corner and exiting full-throttle out of Woodcote down the start/finish straight. \nLegends Club hospitality package includes: \n\nTicket includes inner track access as well as other benefits\nPersonal Silverstone radio\nReserved table (may be shared depending on group size)\nBuffet breakfast\nGourmet two-course buffet lunch\n‘Bikers afternoon tea’\nAssortment of snacks throughout the day\nComplimentary bar service with a wide selection of wines\, beers\, soft drinks\, and hot beverages\, including unlimited sparkling wine (Sparkling wine not included on Friday)\nOptional cash bar available for premium spirits and Champagne\nGuest compère (on Saturday and Sunday)\nReserved hospitality parking\nTerrace view
URL:https://unlimitedjoy.co.uk/event/british-grand-prix-motogp/
LOCATION:Silverstone Circuit\, United Kingdom
CATEGORIES:Motorsports,Sports
ATTACH;FMTTYPE=image/jpeg:https://unlimitedjoy.co.uk/wp-content/uploads/2023/07/33e313de-ad1d-4028-a905-067b89c843c2.jpg
END:VEVENT
BEGIN:VEVENT
DTSTART;VALUE=DATE:20250523
DTEND;VALUE=DATE:20250526
DTSTAMP:20260422T190651
CREATED:20230315T151743Z
LAST-MODIFIED:20240910T111116Z
UID:10000086-1747958400-1748217599@unlimitedjoy.co.uk
SUMMARY:Monaco F1 Grand Prix
DESCRIPTION:Hospitality Packages \n\nFairmont VP Suite\nOffering you and your guests the best views over the famous Fairmont Hairpin\, watch as the cars race down the hill from Mirabeau Corner and break hard into the hairpin before accelerating away towards Portier Corner. This section of the track is highly technical and notoriously difficult in the wet\, so there are often exciting incidents on view from this location. \nA buffet lunch is also served in the suite prepared by the celebrated kitchens of the Fairmont Hotel. An open bar serving champagne\, fine wines\, beers\, spirits and soft drinks are served all day along with a selection of soft drinks. \nFairmont VP Suite hospitality package includes: \n\nThe best views of the famous Fairmont Hairpin\nLarge viewing screens are located inside and outside\nSpecially prepared ‘Grand Prix’ buffet lunch\nOpen bar serving Champagne\, fine wines\, selected spirits\, beers and soft drinks\nGo Privilege personnel available for the duration of your trip\nExclusive souvenir lanyards\nExclusive VIP passes\nOfficial Programme\nDedicated hospitality welcome desks\n\n  \nLa Rascasse\nLa Rascasse is the world-famous bar inside the penultimate corner of the Monaco Grand Prix track. The cars race around the perimeter of the building putting you and your guests right in the centre of the action. Watch as the cars exit the swimming pool section and race directly towards Rascasse before going around the building just meters away. From the first floor viewing balconies\, guests will be able to look down into the cockpit of the cars creating a very unique view! \nLa Rascasse hospitality package includes: \n\nIncredible views of the track including Piscine and Rascasse corners\nMultiple viewing perspectives inside and outside\nOpen bar serving Champagne\, wines\, spirits\, beers and soft drinks\nLight breakfast snacks\nFull buffet lunch\nGo Privilege personnel available for the duration of your trip\nExclusive souvenir lanyards\nExclusive VIP passes\nDedicated hospitality welcome desks\n\n  \nTrackside Yacht\nWatch the Monaco Grand Prix from our ‘Zone A’ yacht offering stunning views as the cars race through the harbour circuit. The harbour section of the track is one of the most exciting parts of the Monaco circuit\, and our specially chosen yacht is the perfect place to enjoy the action from. You and your guests are transferred to the yacht from Fontvieille Harbour by VIP tender service. Once on board\, the champagne flows as the action unfolds on the track meters away from the yacht. Guests will also benefit from views of the giant harbour screen and other onboard screens to keep on top of the action as it unfolds around the track. \nTrackside Yacht hospitality package includes: \n\nZone A Yacht offering the very best views of the racing\nMultiple screens to keep you and your guests up to date on the action\nA team of dedicated staff on and off board to look after you and your guests throughout the weekend\nA light breakfast\nFine buffet lunch is prepared by onboard chefs\nOpen bar serving Champagne\, spirits\, fine wines\, beers and soft drinks\nExclusive souvenir lanyards\nExclusive VIP passes\nOfficial Programme\nGo Privilege personnel available for the duration of your trip\nGuests may have to use a ladder over the bow (front) to access the yacht\n*Size\, specification and location of the yacht are likely to change year on year. Please ask us if you would like more details regarding the yacht.
URL:https://unlimitedjoy.co.uk/event/monaco-f1-grand-prix/
LOCATION:Circuit de Monaco\, United Kingdom
CATEGORIES:Motorsports,Sports
ATTACH;FMTTYPE=image/jpeg:https://unlimitedjoy.co.uk/wp-content/uploads/2023/03/Monaco-Grand-Prix-scaled.jpg
END:VEVENT
BEGIN:VEVENT
DTSTART;VALUE=DATE:20250521
DTEND;VALUE=DATE:20250522
DTSTAMP:20260422T190651
CREATED:20230315T151946Z
LAST-MODIFIED:20240910T100632Z
UID:10000092-1747785600-1747871999@unlimitedjoy.co.uk
SUMMARY:UEFA Europa League Final
DESCRIPTION:
URL:https://unlimitedjoy.co.uk/event/uefa-europa-league-final/
CATEGORIES:Football,Sports
ATTACH;FMTTYPE=image/jpeg:https://unlimitedjoy.co.uk/wp-content/uploads/2023/03/Football-for-Matches-scaled.jpg
END:VEVENT
BEGIN:VEVENT
DTSTART;VALUE=DATE:20250517
DTEND;VALUE=DATE:20250518
DTSTAMP:20260422T190651
CREATED:20230315T152835Z
LAST-MODIFIED:20240910T095033Z
UID:10000098-1747440000-1747526399@unlimitedjoy.co.uk
SUMMARY:FA Cup Final
DESCRIPTION:
URL:https://unlimitedjoy.co.uk/event/fa-cup-final/
CATEGORIES:Football,Sports
ATTACH;FMTTYPE=image/jpeg:https://unlimitedjoy.co.uk/wp-content/uploads/2023/03/Football-Match.jpg
END:VEVENT
BEGIN:VEVENT
DTSTART;VALUE=DATE:20250517
DTEND;VALUE=DATE:20250519
DTSTAMP:20260422T190651
CREATED:20230315T151752Z
LAST-MODIFIED:20240910T101044Z
UID:10000087-1747440000-1747612799@unlimitedjoy.co.uk
SUMMARY:Women's FA Cup Final
DESCRIPTION:
URL:https://unlimitedjoy.co.uk/event/womens-fa-cup-final/
CATEGORIES:Football,Sports
ATTACH;FMTTYPE=image/jpeg:https://unlimitedjoy.co.uk/wp-content/uploads/2023/03/Football-Match.jpg
END:VEVENT
BEGIN:VEVENT
DTSTART;VALUE=DATE:20250514
DTEND;VALUE=DATE:20250517
DTSTAMP:20260422T190651
CREATED:20250228T121040Z
LAST-MODIFIED:20250228T121040Z
UID:10005564-1747180800-1747439999@unlimitedjoy.co.uk
SUMMARY:Dante Festival
DESCRIPTION:Hospitality Packages\n \n14 – 16 May 2025
URL:https://unlimitedjoy.co.uk/event/dante-festival/
LOCATION:York Racecourse\, YO23 1EX\, United Kingdom
CATEGORIES:Horse Racing,Sports
ATTACH;FMTTYPE=image/jpeg:https://unlimitedjoy.co.uk/wp-content/uploads/2023/07/93820911-a1b3-42b6-945c-95924992b0d2-scaled.jpg
END:VEVENT
BEGIN:VEVENT
DTSTART;VALUE=DATE:20250505
DTEND;VALUE=DATE:20250508
DTSTAMP:20260422T190651
CREATED:20240913T125831Z
LAST-MODIFIED:20240913T130537Z
UID:10005532-1746403200-1746662399@unlimitedjoy.co.uk
SUMMARY:Boodles May Festival
DESCRIPTION:Hospitality Packages \nMonday 5th – Wednesday 7th May 2025
URL:https://unlimitedjoy.co.uk/event/boodles-may-festival/
LOCATION:Chester Racecourse\, CH1 2LY
CATEGORIES:Horse Racing,Sports
ATTACH;FMTTYPE=image/jpeg:https://unlimitedjoy.co.uk/wp-content/uploads/2023/07/f9d13bb5-e39a-4025-8dd9-7ecc1ebccb01.jpg
END:VEVENT
BEGIN:VEVENT
DTSTART;VALUE=DATE:20250503
DTEND;VALUE=DATE:20250504
DTSTAMP:20260422T190651
CREATED:20240913T131742Z
LAST-MODIFIED:20240913T131742Z
UID:10005533-1746230400-1746316799@unlimitedjoy.co.uk
SUMMARY:Army v Navy
DESCRIPTION:Hospitality Packages \nMonday 3rd May 2025
URL:https://unlimitedjoy.co.uk/event/army-v-navy/
LOCATION:Twickenham Stadium\, London\, United Kingdom
CATEGORIES:Rugby,Sports
ATTACH;FMTTYPE=image/jpeg:https://unlimitedjoy.co.uk/wp-content/uploads/2024/09/army-v-navy.jpg
END:VEVENT
BEGIN:VEVENT
DTSTART;VALUE=DATE:20250503
DTEND;VALUE=DATE:20250504
DTSTAMP:20260422T190651
CREATED:20230315T151851Z
LAST-MODIFIED:20240910T095220Z
UID:10000090-1746230400-1746316799@unlimitedjoy.co.uk
SUMMARY:EFL Championship Play - Off Final
DESCRIPTION:
URL:https://unlimitedjoy.co.uk/event/efl-play-off-finals/
CATEGORIES:Football,Sports
ATTACH;FMTTYPE=image/jpeg:https://unlimitedjoy.co.uk/wp-content/uploads/2023/03/Football-for-Matches-scaled.jpg
END:VEVENT
BEGIN:VEVENT
DTSTART;VALUE=DATE:20250502
DTEND;VALUE=DATE:20250505
DTSTAMP:20260422T190651
CREATED:20230315T151842Z
LAST-MODIFIED:20240910T110850Z
UID:10000089-1746144000-1746403199@unlimitedjoy.co.uk
SUMMARY:Miami F1 Grand Prix
DESCRIPTION:
URL:https://unlimitedjoy.co.uk/event/miami-f1-grand-prix/
LOCATION:Miami
CATEGORIES:Motorsports,Sports
ATTACH;FMTTYPE=image/jpeg:https://unlimitedjoy.co.uk/wp-content/uploads/2023/07/86bd2841-db0c-4b55-abf7-14afa913e944-scaled.jpg
END:VEVENT
BEGIN:VEVENT
DTSTART;VALUE=DATE:20250426
DTEND;VALUE=DATE:20250427
DTSTAMP:20260422T190651
CREATED:20250228T113448Z
LAST-MODIFIED:20250228T113537Z
UID:10005563-1745625600-1745711999@unlimitedjoy.co.uk
SUMMARY:Chris Eubank Jr. v Conor Benn
DESCRIPTION:
URL:https://unlimitedjoy.co.uk/event/chris-eubank-jr-v-conor-benn/
LOCATION:Tottenham Hotspur Stadium\, N17 0BX\, United Kingdom
CATEGORIES:Boxing,Sports
ATTACH;FMTTYPE=image/jpeg:https://unlimitedjoy.co.uk/wp-content/uploads/2023/03/image__boxing.jpg
END:VEVENT
BEGIN:VEVENT
DTSTART;VALUE=DATE:20250410
DTEND;VALUE=DATE:20250414
DTSTAMP:20260422T190651
CREATED:20230317T131230Z
LAST-MODIFIED:20240910T105901Z
UID:10000182-1744243200-1744588799@unlimitedjoy.co.uk
SUMMARY:US Masters
DESCRIPTION:Hospitality Packages\nComing soon.
URL:https://unlimitedjoy.co.uk/event/us-masters/
CATEGORIES:Golf,Sports
ATTACH;FMTTYPE=image/jpeg:https://unlimitedjoy.co.uk/wp-content/uploads/2023/07/945201c7-22b6-4637-9c28-f97b8d02f906.jpg
END:VEVENT
BEGIN:VEVENT
DTSTART;VALUE=DATE:20250405
DTEND;VALUE=DATE:20250406
DTSTAMP:20260422T190651
CREATED:20240910T110300Z
LAST-MODIFIED:20240910T110300Z
UID:10005454-1743811200-1743897599@unlimitedjoy.co.uk
SUMMARY:FA Cup Semi Final 2
DESCRIPTION:
URL:https://unlimitedjoy.co.uk/event/fa-cup-semi-final-2/
CATEGORIES:Football,Sports
ATTACH;FMTTYPE=image/jpeg:https://unlimitedjoy.co.uk/wp-content/uploads/2023/03/Football-Match.jpg
END:VEVENT
BEGIN:VEVENT
DTSTART;VALUE=DATE:20250403
DTEND;VALUE=DATE:20250406
DTSTAMP:20260422T190651
CREATED:20230315T150610Z
LAST-MODIFIED:20240910T105715Z
UID:10000075-1743638400-1743897599@unlimitedjoy.co.uk
SUMMARY:Grand National
DESCRIPTION:Hospitality Packages
URL:https://unlimitedjoy.co.uk/event/grand-national/
LOCATION:Aintree Racecourse
CATEGORIES:Horse Racing,Sports
ATTACH;FMTTYPE=image/jpeg:https://unlimitedjoy.co.uk/wp-content/uploads/2023/03/Grand-National-at-Aintree-scaled.jpg
END:VEVENT
BEGIN:VEVENT
DTSTART;VALUE=DATE:20250329
DTEND;VALUE=DATE:20250330
DTSTAMP:20260422T190651
CREATED:20230315T150645Z
LAST-MODIFIED:20240910T110217Z
UID:10000076-1743206400-1743292799@unlimitedjoy.co.uk
SUMMARY:FA Cup Semi Final 1
DESCRIPTION:
URL:https://unlimitedjoy.co.uk/event/fa-cup-semi-final/
CATEGORIES:Football,Sports
ATTACH;FMTTYPE=image/jpeg:https://unlimitedjoy.co.uk/wp-content/uploads/2023/03/Football-Match.jpg
END:VEVENT
END:VCALENDAR