BEGIN:VCALENDAR
VERSION:2.0
PRODID:-//Hospitality and Events Packages | Unlimited Joy - ECPv6.15.20//NONSGML v1.0//EN
CALSCALE:GREGORIAN
METHOD:PUBLISH
X-ORIGINAL-URL:https://unlimitedjoy.co.uk
X-WR-CALDESC:Events for Hospitality and Events Packages | Unlimited Joy
REFRESH-INTERVAL;VALUE=DURATION:PT1H
X-Robots-Tag:noindex
X-PUBLISHED-TTL:PT1H
BEGIN:VTIMEZONE
TZID:UTC
BEGIN:STANDARD
TZOFFSETFROM:+0000
TZOFFSETTO:+0000
TZNAME:UTC
DTSTART:20230101T000000
END:STANDARD
END:VTIMEZONE
BEGIN:VEVENT
DTSTART;VALUE=DATE:20240909
DTEND;VALUE=DATE:20261019
DTSTAMP:20260422T145234
CREATED:20250228T100830Z
LAST-MODIFIED:20250228T143136Z
UID:10000174-1725868800-1792342800@unlimitedjoy.co.uk
SUMMARY:T20 Blast
DESCRIPTION:Hospitality Packages \n  \n 
URL:https://unlimitedjoy.co.uk/event/t20-blast/
CATEGORIES:Cricket,Sports
ATTACH;FMTTYPE=image/jpeg:https://unlimitedjoy.co.uk/wp-content/uploads/2023/07/43f983cb-2442-4f17-b31f-2611006a67ee-scaled.jpg
END:VEVENT
BEGIN:VEVENT
DTSTART;VALUE=DATE:20261120
DTEND;VALUE=DATE:20270307
DTSTAMP:20260422T145234
CREATED:20230317T101104Z
LAST-MODIFIED:20250227T131426Z
UID:10005457-1795132800-1804377599@unlimitedjoy.co.uk
SUMMARY:ODI Hospitality
DESCRIPTION:Hospitality Packages\nPlease contact our team for current availability. \nEngland v West Indies \nEngland v South Africa
URL:https://unlimitedjoy.co.uk/event/odi-hospitality/
CATEGORIES:Cricket,Sports
ATTACH;FMTTYPE=image/jpeg:https://unlimitedjoy.co.uk/wp-content/uploads/2023/03/Edgbaston-Cricket-Ground.jpg
END:VEVENT
BEGIN:VEVENT
DTSTART;VALUE=DATE:20271023
DTEND;VALUE=DATE:20271220
DTSTAMP:20260422T145234
CREATED:20230914T112842Z
LAST-MODIFIED:20240910T104833Z
UID:10000200-1824249600-1829260799@unlimitedjoy.co.uk
SUMMARY:Rugby World Cup Final 2027
DESCRIPTION:
URL:https://unlimitedjoy.co.uk/event/rugby-world-cup-final-2023/
CATEGORIES:Rugby,Sports
ATTACH;FMTTYPE=image/jpeg:https://unlimitedjoy.co.uk/wp-content/uploads/2023/03/Rugby-World-Cup.jpg
END:VEVENT
BEGIN:VEVENT
DTSTART;VALUE=DATE:20280714
DTEND;VALUE=DATE:20280828
DTSTAMP:20260422T145234
CREATED:20230919T110858Z
LAST-MODIFIED:20240913T134731Z
UID:10004574-1847145600-1851033599@unlimitedjoy.co.uk
SUMMARY:Olympic & Paralympic Games LA 2028
DESCRIPTION:Hospitality Packages \nOlympic games: 14th – 30th July \nParalympic games: 15 – 27th august
URL:https://unlimitedjoy.co.uk/event/olympic-paralympic-games-paris-2024/
LOCATION:Stade de France\, Paris\, France
CATEGORIES:Sports
ATTACH;FMTTYPE=image/jpeg:https://unlimitedjoy.co.uk/wp-content/uploads/2023/09/7a3a649e-b6b2-473d-bcaa-9b7016b77293.jpg
END:VEVENT
END:VCALENDAR