BEGIN:VCALENDAR
VERSION:2.0
PRODID:-//Hospitality and Events Packages | Unlimited Joy - ECPv6.15.20//NONSGML v1.0//EN
CALSCALE:GREGORIAN
METHOD:PUBLISH
X-ORIGINAL-URL:https://unlimitedjoy.co.uk
X-WR-CALDESC:Events for Hospitality and Events Packages | Unlimited Joy
REFRESH-INTERVAL;VALUE=DURATION:PT1H
X-Robots-Tag:noindex
X-PUBLISHED-TTL:PT1H
BEGIN:VTIMEZONE
TZID:UTC
BEGIN:STANDARD
TZOFFSETFROM:+0000
TZOFFSETTO:+0000
TZNAME:UTC
DTSTART:20230101T000000
END:STANDARD
END:VTIMEZONE
BEGIN:VEVENT
DTSTART;VALUE=DATE:20240909
DTEND;VALUE=DATE:20251101
DTSTAMP:20260423T054928
CREATED:20230317T101012Z
LAST-MODIFIED:20250228T143124Z
UID:10000177-1725868800-1761930000@unlimitedjoy.co.uk
SUMMARY:Internationals
DESCRIPTION:Hospitality Packages\nComing soon
URL:https://unlimitedjoy.co.uk/event/internationals/
CATEGORIES:Cricket,Sports
ATTACH;FMTTYPE=image/jpeg:https://unlimitedjoy.co.uk/wp-content/uploads/2023/03/Edgbaston-Cricket-Ground.jpg
END:VEVENT
BEGIN:VEVENT
DTSTART;VALUE=DATE:20240909
DTEND;VALUE=DATE:20261019
DTSTAMP:20260423T054928
CREATED:20250228T100830Z
LAST-MODIFIED:20250228T143136Z
UID:10000174-1725868800-1792342800@unlimitedjoy.co.uk
SUMMARY:T20 Blast
DESCRIPTION:Hospitality Packages \n  \n 
URL:https://unlimitedjoy.co.uk/event/t20-blast/
CATEGORIES:Cricket,Sports
ATTACH;FMTTYPE=image/jpeg:https://unlimitedjoy.co.uk/wp-content/uploads/2023/07/43f983cb-2442-4f17-b31f-2611006a67ee-scaled.jpg
END:VEVENT
BEGIN:VEVENT
DTSTART;VALUE=DATE:20250801
DTEND;VALUE=DATE:20251013
DTSTAMP:20260423T054928
CREATED:20230317T100803Z
LAST-MODIFIED:20240910T123523Z
UID:10000173-1754035200-1760288400@unlimitedjoy.co.uk
SUMMARY:Test Matches
DESCRIPTION:Hospitality Packages\nPlease contact our team for current availability. \n1st Test: 20th June – 24th June\, Headingley\, Leeds \n2nd Test: 2nd July – 6th July\, Edgbaston\, Birmingham \n3rd Test: 10th July – 14th July\, Lord’s\, London \n4th Test: 23rd July – 27th July\, Old Trafford\, Manchester \n5th Test: 31st July – 4th August\, The Oval\, London
URL:https://unlimitedjoy.co.uk/event/test-matches/2025-08-01/
CATEGORIES:Cricket,Sports
ATTACH;FMTTYPE=image/jpeg:https://unlimitedjoy.co.uk/wp-content/uploads/2023/03/Kia-Oval.jpg
END:VEVENT
END:VCALENDAR