BEGIN:VCALENDAR
VERSION:2.0
PRODID:-//Hospitality and Events Packages | Unlimited Joy - ECPv6.15.20//NONSGML v1.0//EN
CALSCALE:GREGORIAN
METHOD:PUBLISH
X-ORIGINAL-URL:https://unlimitedjoy.co.uk
X-WR-CALDESC:Events for Hospitality and Events Packages | Unlimited Joy
REFRESH-INTERVAL;VALUE=DURATION:PT1H
X-Robots-Tag:noindex
X-PUBLISHED-TTL:PT1H
BEGIN:VTIMEZONE
TZID:UTC
BEGIN:STANDARD
TZOFFSETFROM:+0000
TZOFFSETTO:+0000
TZNAME:UTC
DTSTART:20230101T000000
END:STANDARD
END:VTIMEZONE
BEGIN:VEVENT
DTSTART;VALUE=DATE:20250603
DTEND;VALUE=DATE:20250617
DTSTAMP:20260422T202108
CREATED:20240911T123535Z
LAST-MODIFIED:20240911T123535Z
UID:10005524-1748908800-1750118399@unlimitedjoy.co.uk
SUMMARY:Billie Eilish
DESCRIPTION:3rd June: SSE Arena\, Belfast\n7th June: AO Arena\, Manchester\n8th June: AO Arena\, Manchester\n10th June: The O2\, London\n11th June: The O2\, London\n12th June: The O2\, London\n14th June: The SSE Hydro\, Glasgow\n15th June: Utilita Arena\, Birmingham\n16th June: The O2\, London
URL:https://unlimitedjoy.co.uk/event/billie-eilish/
CATEGORIES:Music
ATTACH;FMTTYPE=image/jpeg:https://unlimitedjoy.co.uk/wp-content/uploads/2024/09/billie-eilish.jpg
END:VEVENT
BEGIN:VEVENT
DTSTART;VALUE=DATE:20250519
DTEND;VALUE=DATE:20250525
DTSTAMP:20260422T202108
CREATED:20241127T134647Z
LAST-MODIFIED:20241127T134759Z
UID:10005550-1747612800-1748131199@unlimitedjoy.co.uk
SUMMARY:Tate McRae
DESCRIPTION:19 May 2025: Birmingham\, Utilita Arena\n20 May 2025: London\, The O2\n23 May 2025: Glasgow\, OVO Hydro\n24 May 2025: Manchester\, Co-op Live
URL:https://unlimitedjoy.co.uk/event/tate-mcrae/
CATEGORIES:Music
ATTACH;FMTTYPE=image/jpeg:https://unlimitedjoy.co.uk/wp-content/uploads/2024/11/Tate-McRae-scaled.jpg
END:VEVENT
BEGIN:VEVENT
DTSTART;VALUE=DATE:20250516
DTEND;VALUE=DATE:20250601
DTSTAMP:20260422T202108
CREATED:20241203T105911Z
LAST-MODIFIED:20250228T122455Z
UID:10005552-1747353600-1748735999@unlimitedjoy.co.uk
SUMMARY:Kylie Minogue
DESCRIPTION:16 May 2025: OVO Hydro\, Glasgow\n17 May 2025: Utilita Arena\, Newcastle\n19 May 2025: AO Arena\, Manchester\n20 May 2025: AO Arena\, Manchester\n22 May 2025: M&S Bank Arena\, Liverpool\n23 May 2025: Utilita Arena\, Sheffield\n26 May 2025: The O2\, London\n27 May 2025: The O2\, London\n30 May 2025: Motorpoint Arena\, Nottingham\n31 May 2025: bp pulse LIVE Birmingham\n2 June 2025: The O2\, London\n3 June 2025: The O2\, London\n5 June 2025: bp pulse LIVE Birmingham\n6 June 2025: OVO Hydro\, Glasgow
URL:https://unlimitedjoy.co.uk/event/kylie-minogue-2/
CATEGORIES:Music
ATTACH;FMTTYPE=image/jpeg:https://unlimitedjoy.co.uk/wp-content/uploads/2024/09/Kylie-Minogue.jpg
END:VEVENT
BEGIN:VEVENT
DTSTART;VALUE=DATE:20250504
DTEND;VALUE=DATE:20250526
DTSTAMP:20260422T202108
CREATED:20240925T142847Z
LAST-MODIFIED:20240925T142847Z
UID:10005540-1746316800-1748217599@unlimitedjoy.co.uk
SUMMARY:Olly Murs
DESCRIPTION:4th May: Utilita Arena\, Newcastle\n6th May: Motorpoint Arena\, Nottingham\n8th May: Co-op Live\, Manchester\nFri 9th May: First Direct Arena\, Leeds\n15th May: M&S Bank Arena\, Liverpool\n16th May: bp pulse LIVE\, Birmingham\n17th May: The O2\, Birmingham\n18th May: OVO Arena Wembley\n22nd May: OVO Hydro\, Glasgow\n23rd May: AO Arena\, Manchester\n24th May: bp Pulse LIVE\, Birmingham\n25th May: The O2\, London
URL:https://unlimitedjoy.co.uk/event/olly-murs/
CATEGORIES:Music
ATTACH;FMTTYPE=image/jpeg:https://unlimitedjoy.co.uk/wp-content/uploads/2024/09/olly-murs.jpg
END:VEVENT
BEGIN:VEVENT
DTSTART;VALUE=DATE:20250503
DTEND;VALUE=DATE:20260407
DTSTAMP:20260422T202108
CREATED:20250228T103351Z
LAST-MODIFIED:20250228T103352Z
UID:10005562-1746230400-1775519999@unlimitedjoy.co.uk
SUMMARY:ABBA Voyage
DESCRIPTION:
URL:https://unlimitedjoy.co.uk/event/abba-voyage-2/2025-05-03/
LOCATION:ABBA Arena\, E15 2PJ
CATEGORIES:Arts, Theatre & Comedy,Culture,Music
ATTACH;FMTTYPE=image/jpeg:https://unlimitedjoy.co.uk/wp-content/uploads/2023/09/c970878a-e9d2-4868-ab76-3ba4aeab5e3b.jpg
END:VEVENT
BEGIN:VEVENT
DTSTART;VALUE=DATE:20250425
DTEND;VALUE=DATE:20250503
DTSTAMP:20260422T202108
CREATED:20240926T150344Z
LAST-MODIFIED:20240926T150344Z
UID:10005545-1745539200-1746230399@unlimitedjoy.co.uk
SUMMARY:Chase and Status
DESCRIPTION:29th April: Glasgow\, OVO Hydro\n1st May: Manchester\, Co-op Live\n2nd May: Birmingham\, Utilita Arena\n3rd May: London\, The O2\n5th May: Nottingham\, Motorpoint Arena\n6th May: Cardiff\, Utilita Arena\n7th May: Plymouth\, Plymouth Pavilions\n8th May: Bournemouth\, Bournemouth International Centre \n 
URL:https://unlimitedjoy.co.uk/event/chase-and-status/
CATEGORIES:Music
ATTACH;FMTTYPE=image/jpeg:https://unlimitedjoy.co.uk/wp-content/uploads/2024/09/chase-and-status.jpg
END:VEVENT
BEGIN:VEVENT
DTSTART;VALUE=DATE:20250425
DTEND;VALUE=DATE:20250503
DTSTAMP:20260422T202108
CREATED:20240926T145907Z
LAST-MODIFIED:20240926T145907Z
UID:10005544-1745539200-1746230399@unlimitedjoy.co.uk
SUMMARY:Andrea Bocelli
DESCRIPTION:25th April: Manchester\, Co-op Live \n27th – 28th April: Dublin\, 3Arena \n1st – 2nd May: London\, The O2 \n 
URL:https://unlimitedjoy.co.uk/event/andrea-bocelli/
CATEGORIES:Music
ATTACH;FMTTYPE=image/jpeg:https://unlimitedjoy.co.uk/wp-content/uploads/2024/09/andrea-bocelli.jpg
END:VEVENT
BEGIN:VEVENT
DTSTART;VALUE=DATE:20250418
DTEND;VALUE=DATE:20250422
DTSTAMP:20260422T202108
CREATED:20230315T151222Z
LAST-MODIFIED:20240911T113122Z
UID:10005500-1744984800-1745272800@unlimitedjoy.co.uk
SUMMARY:Coachella Festival
DESCRIPTION:The Coachella Valley Music and Arts Festival returns in 2025 and will take place over two weekends: April 11-13 and April 18-20123. It will be held at the Empire Polo Club in Indio\, California.
URL:https://unlimitedjoy.co.uk/event/coachella-festival/2025-04-18/
LOCATION:Empire Polo Club\, CA\, United States
CATEGORIES:Music
ATTACH;FMTTYPE=image/jpeg:https://unlimitedjoy.co.uk/wp-content/uploads/2023/09/049c03ce-5b70-409c-bba2-22d59a9c18b1-scaled.jpg
END:VEVENT
BEGIN:VEVENT
DTSTART;VALUE=DATE:20250411
DTEND;VALUE=DATE:20250414
DTSTAMP:20260422T202108
CREATED:20230315T151222Z
LAST-MODIFIED:20240911T113122Z
UID:10005499-1744329600-1744588799@unlimitedjoy.co.uk
SUMMARY:Coachella Festival
DESCRIPTION:The Coachella Valley Music and Arts Festival returns in 2025 and will take place over two weekends: April 11-13 and April 18-20123. It will be held at the Empire Polo Club in Indio\, California.
URL:https://unlimitedjoy.co.uk/event/coachella-festival/2025-04-11/
LOCATION:Empire Polo Club\, CA\, United States
CATEGORIES:Music
ATTACH;FMTTYPE=image/jpeg:https://unlimitedjoy.co.uk/wp-content/uploads/2023/09/049c03ce-5b70-409c-bba2-22d59a9c18b1-scaled.jpg
END:VEVENT
BEGIN:VEVENT
DTSTART;VALUE=DATE:20250408
DTEND;VALUE=DATE:20250418
DTSTAMP:20260422T202108
CREATED:20241203T104808Z
LAST-MODIFIED:20241203T104808Z
UID:10005551-1744070400-1744934399@unlimitedjoy.co.uk
SUMMARY:Sugababes
DESCRIPTION:8 April 2025: Leeds\, First Direct Arena\n10 April 2025: London\, The O2\n11 April 2025: Manchester\, Co-op Live\n12 April 2025: Birmingham\, BP Pulse Live\n14 April 2025: Cardiff\, UK – Utilita Arena\n16 April 2025: Newcastle\, UK – Utilita Arena\n17 April 2025: Glasgow\, UK – OVO Hydro
URL:https://unlimitedjoy.co.uk/event/sugababes/
CATEGORIES:Music
ATTACH;FMTTYPE=image/jpeg:https://unlimitedjoy.co.uk/wp-content/uploads/2024/12/sugababes.jpg
END:VEVENT
BEGIN:VEVENT
DTSTART;VALUE=DATE:20250405
DTEND;VALUE=DATE:20260310
DTSTAMP:20260422T202108
CREATED:20250228T103351Z
LAST-MODIFIED:20250228T103352Z
UID:10005561-1743811200-1773100799@unlimitedjoy.co.uk
SUMMARY:ABBA Voyage
DESCRIPTION:
URL:https://unlimitedjoy.co.uk/event/abba-voyage-2/2025-04-05/
LOCATION:ABBA Arena\, E15 2PJ
CATEGORIES:Arts, Theatre & Comedy,Culture,Music
ATTACH;FMTTYPE=image/jpeg:https://unlimitedjoy.co.uk/wp-content/uploads/2023/09/c970878a-e9d2-4868-ab76-3ba4aeab5e3b.jpg
END:VEVENT
BEGIN:VEVENT
DTSTART;VALUE=DATE:20250306
DTEND;VALUE=DATE:20250307
DTSTAMP:20260422T202108
CREATED:20241203T113704Z
LAST-MODIFIED:20241203T113704Z
UID:10005555-1741219200-1741305599@unlimitedjoy.co.uk
SUMMARY:Annie Lennox
DESCRIPTION:6 March 2025: Royal Albert Hall\, London
URL:https://unlimitedjoy.co.uk/event/annie-lennox/
LOCATION:Royal Albert Hall\, United Kingdom
CATEGORIES:Music
ATTACH;FMTTYPE=image/jpeg:https://unlimitedjoy.co.uk/wp-content/uploads/2024/12/annie-lennox-scaled.jpg
END:VEVENT
BEGIN:VEVENT
DTSTART;VALUE=DATE:20250304
DTEND;VALUE=DATE:20250314
DTSTAMP:20260422T202108
CREATED:20240923T115249Z
LAST-MODIFIED:20241127T130933Z
UID:10005536-1741046400-1741910399@unlimitedjoy.co.uk
SUMMARY:Teddy Swims
DESCRIPTION:3 & 4 March 2025:  Utilita Arena Birmingham \n6 & 7 March 2025:  OVO Arena\, Wembley \n9 March 2025: OVO Hydro\, Glasgow \n10 & 16 March 2025: Co-op Live\, Manchester \n12 & 13 March 2025: 3Arena\, Dublin \n 
URL:https://unlimitedjoy.co.uk/event/teddy-swims/
CATEGORIES:Music
ATTACH;FMTTYPE=image/jpeg:https://unlimitedjoy.co.uk/wp-content/uploads/2024/09/teddy-swims.jpeg
END:VEVENT
BEGIN:VEVENT
DTSTART;VALUE=DATE:20250301
DTEND;VALUE=DATE:20260203
DTSTAMP:20260422T202108
CREATED:20250228T103351Z
LAST-MODIFIED:20250228T103352Z
UID:10005462-1740787200-1770076799@unlimitedjoy.co.uk
SUMMARY:ABBA Voyage
DESCRIPTION:
URL:https://unlimitedjoy.co.uk/event/abba-voyage-2/2025-03-01/
LOCATION:ABBA Arena\, E15 2PJ
CATEGORIES:Arts, Theatre & Comedy,Culture,Music
ATTACH;FMTTYPE=image/jpeg:https://unlimitedjoy.co.uk/wp-content/uploads/2023/09/c970878a-e9d2-4868-ab76-3ba4aeab5e3b.jpg
END:VEVENT
BEGIN:VEVENT
DTSTART;VALUE=DATE:20250301
DTEND;VALUE=DATE:20250302
DTSTAMP:20260422T202108
CREATED:20230315T144538Z
LAST-MODIFIED:20240911T100748Z
UID:10000061-1740787200-1740873599@unlimitedjoy.co.uk
SUMMARY:BRIT Awards
DESCRIPTION:Hospitality Packages
URL:https://unlimitedjoy.co.uk/event/brit-awards/
CATEGORIES:Culture,Music
ATTACH;FMTTYPE=image/jpeg:https://unlimitedjoy.co.uk/wp-content/uploads/2023/07/4421832e-d67c-4943-98d4-c932a9a2f4aa-scaled.jpg
END:VEVENT
BEGIN:VEVENT
DTSTART;VALUE=DATE:20241231
DTEND;VALUE=DATE:20250101
DTSTAMP:20260422T202108
CREATED:20230315T153303Z
LAST-MODIFIED:20240911T085402Z
UID:10005461-1735603200-1735689599@unlimitedjoy.co.uk
SUMMARY:ABBA Voyage
DESCRIPTION:
URL:https://unlimitedjoy.co.uk/event/abba-voyage/
LOCATION:ABBA Arena\, E15 2PJ
CATEGORIES:Arts, Theatre & Comedy,Culture,Music
ATTACH;FMTTYPE=image/jpeg:https://unlimitedjoy.co.uk/wp-content/uploads/2023/09/c970878a-e9d2-4868-ab76-3ba4aeab5e3b.jpg
END:VEVENT
END:VCALENDAR