BEGIN:VCALENDAR
VERSION:2.0
PRODID:-//Hospitality and Events Packages | Unlimited Joy - ECPv6.15.20//NONSGML v1.0//EN
CALSCALE:GREGORIAN
METHOD:PUBLISH
X-ORIGINAL-URL:https://unlimitedjoy.co.uk
X-WR-CALDESC:Events for Hospitality and Events Packages | Unlimited Joy
REFRESH-INTERVAL;VALUE=DURATION:PT1H
X-Robots-Tag:noindex
X-PUBLISHED-TTL:PT1H
BEGIN:VTIMEZONE
TZID:UTC
BEGIN:STANDARD
TZOFFSETFROM:+0000
TZOFFSETTO:+0000
TZNAME:UTC
DTSTART:20240101T000000
END:STANDARD
END:VTIMEZONE
BEGIN:VEVENT
DTSTART;VALUE=DATE:20251213
DTEND;VALUE=DATE:20251215
DTSTAMP:20260422T161918
CREATED:20230316T093115Z
LAST-MODIFIED:20250227T143626Z
UID:10000164-1765584000-1765756799@unlimitedjoy.co.uk
SUMMARY:Jingle Bell Ball
DESCRIPTION:Dates and Performances TBC
URL:https://unlimitedjoy.co.uk/event/jingle-bell-ball/
LOCATION:The O2\, London\, United Kingdom
CATEGORIES:Music
ATTACH;FMTTYPE=image/jpeg:https://unlimitedjoy.co.uk/wp-content/uploads/2023/03/Jingle-Bell-Ball-at-the-O2.jpg
END:VEVENT
BEGIN:VEVENT
DTSTART;VALUE=DATE:20251203
DTEND;VALUE=DATE:20251213
DTSTAMP:20260422T161918
CREATED:20241127T120616Z
LAST-MODIFIED:20241127T120616Z
UID:10005547-1764720000-1765583999@unlimitedjoy.co.uk
SUMMARY:Jamiroquai
DESCRIPTION:3 December 2025: OVO Hydro\, Glasgow\n6 December 2025: Co-op Live\, Manchester\n9 December 2025: The O2\, London\n12 December 2025: Utilita Arena Birmingham
URL:https://unlimitedjoy.co.uk/event/jamiroquai/
CATEGORIES:Music
ATTACH;FMTTYPE=image/jpeg:https://unlimitedjoy.co.uk/wp-content/uploads/2024/11/Jamiroquai.jpg
END:VEVENT
BEGIN:VEVENT
DTSTART;VALUE=DATE:20251007
DTEND;VALUE=DATE:20251015
DTSTAMP:20260422T161918
CREATED:20241127T125949Z
LAST-MODIFIED:20241127T125949Z
UID:10005549-1759795200-1760486399@unlimitedjoy.co.uk
SUMMARY:Katy Perry
DESCRIPTION:7 October 2025: Glasgow\, OVO Hydro\n8 October 2025: Manchester\, AO Arena\n10 October 2025: Sheffield\, Utilita Arena\n11 October 2025: Birmingham\, Utilita Arena\n13 & 14  October 2025: London\, The O2
URL:https://unlimitedjoy.co.uk/event/katy-perry-2/
CATEGORIES:Music
ATTACH;FMTTYPE=image/jpeg:https://unlimitedjoy.co.uk/wp-content/uploads/2024/11/katy_perry.jpg
END:VEVENT
BEGIN:VEVENT
DTSTART;VALUE=DATE:20251007
DTEND;VALUE=DATE:20251015
DTSTAMP:20260422T161918
CREATED:20241127T123051Z
LAST-MODIFIED:20241127T123051Z
UID:10005548-1759795200-1760486399@unlimitedjoy.co.uk
SUMMARY:Katy Perry
DESCRIPTION:7 October 2025: Glasgow\, OVO Hydro\n8 October 2025: Manchester\, AO Arena\n10 October 2025: Sheffield\, Utilita Arena\n11 October 2025: Birmingham\, Utilita Arena\n13 & 14  October 2025: London\, The O2
URL:https://unlimitedjoy.co.uk/event/katy-perry/
CATEGORIES:Music
ATTACH;FMTTYPE=image/jpeg:https://unlimitedjoy.co.uk/wp-content/uploads/2024/11/katy_perry.jpg
END:VEVENT
BEGIN:VEVENT
DTSTART;VALUE=DATE:20250913
DTEND;VALUE=DATE:20250914
DTSTAMP:20260422T161918
CREATED:20230316T082612Z
LAST-MODIFIED:20240913T115855Z
UID:10000144-1757721600-1757807999@unlimitedjoy.co.uk
SUMMARY:Last Night of the Proms
DESCRIPTION:H4: Hospitality Packages
URL:https://unlimitedjoy.co.uk/event/last-night-of-the-proms/
LOCATION:Royal Albert Hall\, United Kingdom
CATEGORIES:Culture,Music
ATTACH;FMTTYPE=image/jpeg:https://unlimitedjoy.co.uk/wp-content/uploads/2023/07/6a6ff437-59a2-4c30-b94a-beb668204799-scaled.jpg
END:VEVENT
BEGIN:VEVENT
DTSTART;VALUE=DATE:20250824
DTEND;VALUE=DATE:20250902
DTSTAMP:20260422T161918
CREATED:20230315T160810Z
LAST-MODIFIED:20240913T113008Z
UID:10000142-1755993600-1756771199@unlimitedjoy.co.uk
SUMMARY:Burning Man Festival
DESCRIPTION:Hospitality  \nDates TBC \n 
URL:https://unlimitedjoy.co.uk/event/burning-man-festival/
LOCATION:Black Rock Desert\, Pershing County\, NV\, United States
CATEGORIES:Music
ATTACH;FMTTYPE=image/jpeg:https://unlimitedjoy.co.uk/wp-content/uploads/2023/07/545a2cdd-38f9-4564-921c-238da5d76530-2-scaled.jpg
END:VEVENT
BEGIN:VEVENT
DTSTART;VALUE=DATE:20250818
DTEND;VALUE=DATE:20250901
DTSTAMP:20260422T161918
CREATED:20240923T113840Z
LAST-MODIFIED:20240923T132218Z
UID:10005535-1755475200-1756684799@unlimitedjoy.co.uk
SUMMARY:Coldplay
DESCRIPTION:18th & 19th August: Craven Park Stadium\, Hull \n22nd\, 23rd\, 26th\, 27th\, 30th\, 31st: Wembley Stadium\, London
URL:https://unlimitedjoy.co.uk/event/coldplay/
CATEGORIES:Music
ATTACH;FMTTYPE=image/webp:https://unlimitedjoy.co.uk/wp-content/uploads/2024/09/Coldplay-Corp-Site-Asset-1200-x-630-px.webp
END:VEVENT
BEGIN:VEVENT
DTSTART;VALUE=DATE:20250801
DTEND;VALUE=DATE:20250804
DTSTAMP:20260422T161918
CREATED:20240913T123922Z
LAST-MODIFIED:20240913T123922Z
UID:10005531-1754006400-1754265599@unlimitedjoy.co.uk
SUMMARY:Catfish and the Bottlemen
DESCRIPTION:1st August: Principality Stadium\, Cardiff \n3rd August: Tottenham Hotspur New Stadium\, London
URL:https://unlimitedjoy.co.uk/event/catfish-and-the-bottlemen-2/
CATEGORIES:Music
ATTACH;FMTTYPE=image/jpeg:https://unlimitedjoy.co.uk/wp-content/uploads/2024/09/catfish-and-the-bottlemen.jpg
END:VEVENT
BEGIN:VEVENT
DTSTART;VALUE=DATE:20250801
DTEND;VALUE=DATE:20250804
DTSTAMP:20260422T161918
CREATED:20240913T123522Z
LAST-MODIFIED:20240913T123522Z
UID:10005530-1754006400-1754265599@unlimitedjoy.co.uk
SUMMARY:Catfish and the Bottlemen
DESCRIPTION:1st August: Principality Stadium\, Cardiff \n3rd August: Tottenham Hotspur New Stadium\, London
URL:https://unlimitedjoy.co.uk/event/catfish-and-the-bottlemen/2025-08-01/
CATEGORIES:Music
ATTACH;FMTTYPE=image/jpeg:https://unlimitedjoy.co.uk/wp-content/uploads/2024/09/catfish-and-the-bottlemen.jpg
END:VEVENT
BEGIN:VEVENT
DTSTART;VALUE=DATE:20250725
DTEND;VALUE=DATE:20250727
DTSTAMP:20260422T161918
CREATED:20240925T140548Z
LAST-MODIFIED:20240925T140548Z
UID:10005539-1753401600-1753574399@unlimitedjoy.co.uk
SUMMARY:Imagine Dragons
DESCRIPTION:25th -26th July 2025: Tottenham Hotspur Stadium
URL:https://unlimitedjoy.co.uk/event/imagine-dragons/
CATEGORIES:Music
ATTACH;FMTTYPE=image/jpeg:https://unlimitedjoy.co.uk/wp-content/uploads/2024/09/imagine-dragons.jpg
END:VEVENT
BEGIN:VEVENT
DTSTART;VALUE=DATE:20250711
DTEND;VALUE=DATE:20250714
DTSTAMP:20260422T161918
CREATED:20230315T154810Z
LAST-MODIFIED:20240911T135302Z
UID:10000128-1752192000-1752451199@unlimitedjoy.co.uk
SUMMARY:Wireless Festival
DESCRIPTION:
URL:https://unlimitedjoy.co.uk/event/wireless-festival/
LOCATION:Finsbury Park\, N4 1BZ
CATEGORIES:Music
ATTACH;FMTTYPE=image/jpeg:https://unlimitedjoy.co.uk/wp-content/uploads/2023/09/9040b38b-134a-4819-ab29-4b5f4ceac4cf-scaled.jpg
END:VEVENT
BEGIN:VEVENT
DTSTART;VALUE=DATE:20250708
DTEND;VALUE=DATE:20250727
DTSTAMP:20260422T161918
CREATED:20240911T100550Z
LAST-MODIFIED:20250228T111556Z
UID:10005495-1751932800-1753574399@unlimitedjoy.co.uk
SUMMARY:Craig David
DESCRIPTION:8 July 2025 – Kew the Music\, Kew Gardens \nHospitality Packages
URL:https://unlimitedjoy.co.uk/event/craig-david/
CATEGORIES:Music
ATTACH;FMTTYPE=image/avif:https://unlimitedjoy.co.uk/wp-content/uploads/2024/09/craig-david.avif
END:VEVENT
BEGIN:VEVENT
DTSTART;VALUE=DATE:20250704
DTEND;VALUE=DATE:20250731
DTSTAMP:20260422T161918
CREATED:20240911T134555Z
LAST-MODIFIED:20240911T141047Z
UID:10005525-1751587200-1753919999@unlimitedjoy.co.uk
SUMMARY:Oasis
DESCRIPTION:4th July: Principality Stadium\, Cardiff\n5th July: Principality Stadium\, Cardiff\n11th July: Heaton Park\, Manchester\n12th July: Heaton Park\, Manchester\n16th July: Heaton Park\, Manchester\n19th July: Heaton Park\, Manchester\n20th July: Heaton Park\, Manchester\n25th July: Wembley Stadium\, London\n26th July: Wembley Stadium\, London\n30th July: Wembley Stadium\, London \n2nd August: Wembley Stadium\, London\n3rd August: Wembley Stadium\, London\n8th August: Scottish Gas Murrayfield Stadium\, Edinburgh\n9th August: Scottish Gas Murrayfield Stadium\, Edinburgh\n12th August: Scottish Gas Murrayfield Stadium\, Edinburgh\n16th August: Croke Park\, Dublin\n17th August: Croke Park\, Dublin \n27th September: Wembley Stadium\, London\n28th September: Wembley Stadium\, London
URL:https://unlimitedjoy.co.uk/event/oasis/
CATEGORIES:Music
ATTACH;FMTTYPE=image/png:https://unlimitedjoy.co.uk/wp-content/uploads/2024/09/oasis.png
END:VEVENT
BEGIN:VEVENT
DTSTART;VALUE=DATE:20250628
DTEND;VALUE=DATE:20250629
DTSTAMP:20260422T161918
CREATED:20241203T114047Z
LAST-MODIFIED:20241203T114047Z
UID:10005556-1751068800-1751155199@unlimitedjoy.co.uk
SUMMARY:Linkin Park
DESCRIPTION:28 June 2025: Wembley Stadium\, London
URL:https://unlimitedjoy.co.uk/event/linkin-park/
LOCATION:Wembley Stadium\, United Kingdom
CATEGORIES:Music
ATTACH;FMTTYPE=image/avif:https://unlimitedjoy.co.uk/wp-content/uploads/2024/12/linkin-park.avif
END:VEVENT
BEGIN:VEVENT
DTSTART;VALUE=DATE:20250627
DTEND;VALUE=DATE:20250714
DTSTAMP:20260422T161918
CREATED:20240911T120028Z
LAST-MODIFIED:20250318T114816Z
UID:10005521-1750982400-1752451199@unlimitedjoy.co.uk
SUMMARY:BST Hyde Park
DESCRIPTION:Hospitality Packages \nFirst up is Gen Z pop hero Olivia Rodrigo followed by US country singer-songwriter Zach Bryan\, who will be performing over two shows at the festival. The first weekend will be taken over by folk-pop artist Noah Kahan and renowned pop powerhouse\, Sabrina Carpenter. True music legends will perform across the final weekend; Neil Young with Yusuf/Cat Stevens and Van Morrison on Friday and Stevie Wonder on Saturday. To perform their final ever show\, Jeff Lynne’s Electric Light Orchestra (ELO) take the final performance slot. \nFriday 27 June: Olivia Rodrigo \nSaturday 28 & Sunday 29 June: Zach Bryan \nFriday 4 July: Noah Kahan \nSaturday 5 & Sunday 6 July: Sabrina Carpenter \nFriday 11 July: Neil Young and the Chrome Hearts \nSaturday 12 July: Stevie Wonder \nSunday 13 July: Jeff Lynne’s ELO
URL:https://unlimitedjoy.co.uk/event/bst-hyde-park/
LOCATION:Hyde Park\, United Kingdom
CATEGORIES:Music
ATTACH;FMTTYPE=image/jpeg:https://unlimitedjoy.co.uk/wp-content/uploads/2024/09/qtq80-eymt7A-scaled.jpeg
END:VEVENT
BEGIN:VEVENT
DTSTART;VALUE=DATE:20250626
DTEND;VALUE=DATE:20250627
DTSTAMP:20260422T161918
CREATED:20250228T152416Z
LAST-MODIFIED:20250228T152416Z
UID:10005584-1750896000-1750982399@unlimitedjoy.co.uk
SUMMARY:Guns N Roses
DESCRIPTION:Hospitality Packages
URL:https://unlimitedjoy.co.uk/event/guns-n-roses/
LOCATION:Wembley Stadium\, United Kingdom
CATEGORIES:Culture,Music
ATTACH;FMTTYPE=image/jpeg:https://unlimitedjoy.co.uk/wp-content/uploads/2025/02/guns_and_roses_2018.jpg
END:VEVENT
BEGIN:VEVENT
DTSTART;VALUE=DATE:20250625
DTEND;VALUE=DATE:20250630
DTSTAMP:20260422T161918
CREATED:20230315T153448Z
LAST-MODIFIED:20240911T121154Z
UID:10000118-1750809600-1751241599@unlimitedjoy.co.uk
SUMMARY:Glastonbury Festival
DESCRIPTION:
URL:https://unlimitedjoy.co.uk/event/glastonbury-festival/
LOCATION:Worthy Farm\, Pilton\, BA4 4BY
CATEGORIES:Music
ATTACH;FMTTYPE=image/jpeg:https://unlimitedjoy.co.uk/wp-content/uploads/2023/09/8e60b6df-35d2-4fc3-a6cf-e5ede5abfa88.jpg
END:VEVENT
BEGIN:VEVENT
DTSTART;VALUE=DATE:20250621
DTEND;VALUE=DATE:20250629
DTSTAMP:20260422T161918
CREATED:20240923T112800Z
LAST-MODIFIED:20240923T112926Z
UID:10005534-1750464000-1751155199@unlimitedjoy.co.uk
SUMMARY:Iron Maiden
DESCRIPTION:21 June: Utilita Arena\, Birmingham\, England\n22 June: Co-op Live\, Manchester\, England\n28 June: London Stadium\, London\, England
URL:https://unlimitedjoy.co.uk/event/iron-maiden/
CATEGORIES:Music
ATTACH;FMTTYPE=image/webp:https://unlimitedjoy.co.uk/wp-content/uploads/2024/09/Iron-Maiden.webp
END:VEVENT
BEGIN:VEVENT
DTSTART;VALUE=DATE:20250620
DTEND;VALUE=DATE:20250626
DTSTAMP:20260422T161918
CREATED:20240911T114413Z
LAST-MODIFIED:20241203T151915Z
UID:10005520-1750377600-1750895999@unlimitedjoy.co.uk
SUMMARY:Dua Lipa
DESCRIPTION:20 & 21 June: Wembley Stadium\, London\n24 & 25 June: Anfield Stadium\, Liverpool
URL:https://unlimitedjoy.co.uk/event/dua-lipa/
CATEGORIES:Music
ATTACH;FMTTYPE=image/jpeg:https://unlimitedjoy.co.uk/wp-content/uploads/2024/09/dua-lipa.jpg
END:VEVENT
BEGIN:VEVENT
DTSTART;VALUE=DATE:20250619
DTEND;VALUE=DATE:20250623
DTSTAMP:20260422T161918
CREATED:20230315T153537Z
LAST-MODIFIED:20240911T120949Z
UID:10000123-1750291200-1750636799@unlimitedjoy.co.uk
SUMMARY:Isle of Wight Festival
DESCRIPTION:
URL:https://unlimitedjoy.co.uk/event/isle-of-wight-festival/
LOCATION:Seaclose Park\, Newport\, PO30 2QS\, United Kingdom
CATEGORIES:Music
ATTACH;FMTTYPE=image/jpeg:https://unlimitedjoy.co.uk/wp-content/uploads/2023/09/1163fb95-b9d3-4dbb-b9a0-32f064376f56.jpg
END:VEVENT
BEGIN:VEVENT
DTSTART;VALUE=DATE:20250614
DTEND;VALUE=DATE:20250616
DTSTAMP:20260422T161918
CREATED:20240911T121923Z
LAST-MODIFIED:20250318T113121Z
UID:10005523-1749859200-1750031999@unlimitedjoy.co.uk
SUMMARY:Summertime Ball
DESCRIPTION:Dates TBC
URL:https://unlimitedjoy.co.uk/event/summertime-ball/
LOCATION:Wembley Stadium\, United Kingdom
CATEGORIES:Music
ATTACH;FMTTYPE=image/jpeg:https://unlimitedjoy.co.uk/wp-content/uploads/2024/09/summertime-e1742297465554.jpg
END:VEVENT
BEGIN:VEVENT
DTSTART;VALUE=DATE:20250611
DTEND;VALUE=DATE:20250622
DTSTAMP:20260422T161918
CREATED:20230315T153408Z
LAST-MODIFIED:20250228T143657Z
UID:10000115-1749600000-1750550399@unlimitedjoy.co.uk
SUMMARY:Hampton Court Palace Festival
DESCRIPTION:Hospitality Packages \nJames – 11 June 2025 \nRag ‘n’ Bone Man – 12 June 2025 \nTom Jones – 13 June 2025 \nBananarama – 14 June 2025 \nThe Good the Bad and the Rugby – 15 June 2025 \n10CC – 17 June 2025 \nChaka Khan – 18 June 2025 \nGary Barlow – 19 June 2025 \nElbow – 20 & 21 June 2025 \n 
URL:https://unlimitedjoy.co.uk/event/hampton-court-palace-festival/
LOCATION:Hampton Court Palace\, KT8 9AU
CATEGORIES:Culture,Music
ATTACH;FMTTYPE=image/jpeg:https://unlimitedjoy.co.uk/wp-content/uploads/2023/03/Hampton-Court-Palace-Festival.jpg
END:VEVENT
BEGIN:VEVENT
DTSTART;VALUE=DATE:20250606
DTEND;VALUE=DATE:20250607
DTSTAMP:20260422T161918
CREATED:20241127T115444Z
LAST-MODIFIED:20241127T115530Z
UID:10005546-1749168000-1749254399@unlimitedjoy.co.uk
SUMMARY:Sam Fender
DESCRIPTION:Friday 6 June: London Stadium
URL:https://unlimitedjoy.co.uk/event/sam-fender/
CATEGORIES:Music
ATTACH;FMTTYPE=image/jpeg:https://unlimitedjoy.co.uk/wp-content/uploads/2024/11/sam-fender.jpg
END:VEVENT
BEGIN:VEVENT
DTSTART;VALUE=DATE:20250605
DTEND;VALUE=DATE:20250617
DTSTAMP:20260422T161918
CREATED:20250228T125715Z
LAST-MODIFIED:20250318T111419Z
UID:10005565-1749081600-1750118399@unlimitedjoy.co.uk
SUMMARY:Beyonce: Cowboy Carter Tour
DESCRIPTION:5\, 7\, 10\, 12\, 14\, & 16 June 2025 – Tottenham Hotspur Stadium\, London
URL:https://unlimitedjoy.co.uk/event/cyndi-lauper-farewell-tour-2/
LOCATION:Tottenham Hotspur Stadium\, London
CATEGORIES:Music
ATTACH;FMTTYPE=image/webp:https://unlimitedjoy.co.uk/wp-content/uploads/2025/02/beyonce-cowboy-carter.webp
END:VEVENT
BEGIN:VEVENT
DTSTART;VALUE=DATE:20250603
DTEND;VALUE=DATE:20250617
DTSTAMP:20260422T161918
CREATED:20240911T123535Z
LAST-MODIFIED:20240911T123535Z
UID:10005524-1748908800-1750118399@unlimitedjoy.co.uk
SUMMARY:Billie Eilish
DESCRIPTION:3rd June: SSE Arena\, Belfast\n7th June: AO Arena\, Manchester\n8th June: AO Arena\, Manchester\n10th June: The O2\, London\n11th June: The O2\, London\n12th June: The O2\, London\n14th June: The SSE Hydro\, Glasgow\n15th June: Utilita Arena\, Birmingham\n16th June: The O2\, London
URL:https://unlimitedjoy.co.uk/event/billie-eilish/
CATEGORIES:Music
ATTACH;FMTTYPE=image/jpeg:https://unlimitedjoy.co.uk/wp-content/uploads/2024/09/billie-eilish.jpg
END:VEVENT
BEGIN:VEVENT
DTSTART;VALUE=DATE:20250519
DTEND;VALUE=DATE:20250525
DTSTAMP:20260422T161918
CREATED:20241127T134647Z
LAST-MODIFIED:20241127T134759Z
UID:10005550-1747612800-1748131199@unlimitedjoy.co.uk
SUMMARY:Tate McRae
DESCRIPTION:19 May 2025: Birmingham\, Utilita Arena\n20 May 2025: London\, The O2\n23 May 2025: Glasgow\, OVO Hydro\n24 May 2025: Manchester\, Co-op Live
URL:https://unlimitedjoy.co.uk/event/tate-mcrae/
CATEGORIES:Music
ATTACH;FMTTYPE=image/jpeg:https://unlimitedjoy.co.uk/wp-content/uploads/2024/11/Tate-McRae-scaled.jpg
END:VEVENT
BEGIN:VEVENT
DTSTART;VALUE=DATE:20250516
DTEND;VALUE=DATE:20250601
DTSTAMP:20260422T161918
CREATED:20241203T105911Z
LAST-MODIFIED:20250228T122455Z
UID:10005552-1747353600-1748735999@unlimitedjoy.co.uk
SUMMARY:Kylie Minogue
DESCRIPTION:16 May 2025: OVO Hydro\, Glasgow\n17 May 2025: Utilita Arena\, Newcastle\n19 May 2025: AO Arena\, Manchester\n20 May 2025: AO Arena\, Manchester\n22 May 2025: M&S Bank Arena\, Liverpool\n23 May 2025: Utilita Arena\, Sheffield\n26 May 2025: The O2\, London\n27 May 2025: The O2\, London\n30 May 2025: Motorpoint Arena\, Nottingham\n31 May 2025: bp pulse LIVE Birmingham\n2 June 2025: The O2\, London\n3 June 2025: The O2\, London\n5 June 2025: bp pulse LIVE Birmingham\n6 June 2025: OVO Hydro\, Glasgow
URL:https://unlimitedjoy.co.uk/event/kylie-minogue-2/
CATEGORIES:Music
ATTACH;FMTTYPE=image/jpeg:https://unlimitedjoy.co.uk/wp-content/uploads/2024/09/Kylie-Minogue.jpg
END:VEVENT
BEGIN:VEVENT
DTSTART;VALUE=DATE:20250504
DTEND;VALUE=DATE:20250526
DTSTAMP:20260422T161918
CREATED:20240925T142847Z
LAST-MODIFIED:20240925T142847Z
UID:10005540-1746316800-1748217599@unlimitedjoy.co.uk
SUMMARY:Olly Murs
DESCRIPTION:4th May: Utilita Arena\, Newcastle\n6th May: Motorpoint Arena\, Nottingham\n8th May: Co-op Live\, Manchester\nFri 9th May: First Direct Arena\, Leeds\n15th May: M&S Bank Arena\, Liverpool\n16th May: bp pulse LIVE\, Birmingham\n17th May: The O2\, Birmingham\n18th May: OVO Arena Wembley\n22nd May: OVO Hydro\, Glasgow\n23rd May: AO Arena\, Manchester\n24th May: bp Pulse LIVE\, Birmingham\n25th May: The O2\, London
URL:https://unlimitedjoy.co.uk/event/olly-murs/
CATEGORIES:Music
ATTACH;FMTTYPE=image/jpeg:https://unlimitedjoy.co.uk/wp-content/uploads/2024/09/olly-murs.jpg
END:VEVENT
BEGIN:VEVENT
DTSTART;VALUE=DATE:20250503
DTEND;VALUE=DATE:20260407
DTSTAMP:20260422T161918
CREATED:20250228T103351Z
LAST-MODIFIED:20250228T103352Z
UID:10005562-1746230400-1775519999@unlimitedjoy.co.uk
SUMMARY:ABBA Voyage
DESCRIPTION:
URL:https://unlimitedjoy.co.uk/event/abba-voyage-2/2025-05-03/
LOCATION:ABBA Arena\, E15 2PJ
CATEGORIES:Arts, Theatre & Comedy,Culture,Music
ATTACH;FMTTYPE=image/jpeg:https://unlimitedjoy.co.uk/wp-content/uploads/2023/09/c970878a-e9d2-4868-ab76-3ba4aeab5e3b.jpg
END:VEVENT
BEGIN:VEVENT
DTSTART;VALUE=DATE:20250425
DTEND;VALUE=DATE:20250503
DTSTAMP:20260422T161918
CREATED:20240926T150344Z
LAST-MODIFIED:20240926T150344Z
UID:10005545-1745539200-1746230399@unlimitedjoy.co.uk
SUMMARY:Chase and Status
DESCRIPTION:29th April: Glasgow\, OVO Hydro\n1st May: Manchester\, Co-op Live\n2nd May: Birmingham\, Utilita Arena\n3rd May: London\, The O2\n5th May: Nottingham\, Motorpoint Arena\n6th May: Cardiff\, Utilita Arena\n7th May: Plymouth\, Plymouth Pavilions\n8th May: Bournemouth\, Bournemouth International Centre \n 
URL:https://unlimitedjoy.co.uk/event/chase-and-status/
CATEGORIES:Music
ATTACH;FMTTYPE=image/jpeg:https://unlimitedjoy.co.uk/wp-content/uploads/2024/09/chase-and-status.jpg
END:VEVENT
END:VCALENDAR