BEGIN:VCALENDAR
VERSION:2.0
PRODID:-//Hospitality and Events Packages | Unlimited Joy - ECPv6.15.20//NONSGML v1.0//EN
CALSCALE:GREGORIAN
METHOD:PUBLISH
X-WR-CALNAME:Hospitality and Events Packages | Unlimited Joy
X-ORIGINAL-URL:https://unlimitedjoy.co.uk
X-WR-CALDESC:Events for Hospitality and Events Packages | Unlimited Joy
REFRESH-INTERVAL;VALUE=DURATION:PT1H
X-Robots-Tag:noindex
X-PUBLISHED-TTL:PT1H
BEGIN:VTIMEZONE
TZID:UTC
BEGIN:STANDARD
TZOFFSETFROM:+0000
TZOFFSETTO:+0000
TZNAME:UTC
DTSTART:20240101T000000
END:STANDARD
END:VTIMEZONE
BEGIN:VEVENT
DTSTART;VALUE=DATE:20260331
DTEND;VALUE=DATE:20260401
DTSTAMP:20260422T161911
CREATED:20240911T113422Z
LAST-MODIFIED:20240911T113423Z
UID:10005505-1774915200-1775001599@unlimitedjoy.co.uk
SUMMARY:Theatre\, Opera and Ballet
DESCRIPTION:Hospitality Packages
URL:https://unlimitedjoy.co.uk/event/theatre-opera-and-ballet-2/2026-03-31/
CATEGORIES:Culture
ATTACH;FMTTYPE=image/jpeg:https://unlimitedjoy.co.uk/wp-content/uploads/2023/09/9f8662d6-216b-4966-92e1-9301091435c1.jpg
END:VEVENT
BEGIN:VEVENT
DTSTART;VALUE=DATE:20260213
DTEND;VALUE=DATE:20260218
DTSTAMP:20260422T161911
CREATED:20230315T144541Z
LAST-MODIFIED:20250228T131256Z
UID:10000062-1770940800-1771372799@unlimitedjoy.co.uk
SUMMARY:London Fashion Week A/W
DESCRIPTION:Hospitality Packages \nDates TBC
URL:https://unlimitedjoy.co.uk/event/london-fashion-week-a-w/
CATEGORIES:Culture
ATTACH;FMTTYPE=image/jpeg:https://unlimitedjoy.co.uk/wp-content/uploads/2023/07/cbc97e37-277c-40bd-b62f-0e64f5cfda1a-scaled.jpg
END:VEVENT
BEGIN:VEVENT
DTSTART;VALUE=DATE:20260131
DTEND;VALUE=DATE:20260201
DTSTAMP:20260422T161911
CREATED:20250228T102732Z
LAST-MODIFIED:20250228T102733Z
UID:10005485-1769817600-1769903999@unlimitedjoy.co.uk
SUMMARY:Harry Potter Studio Tour
DESCRIPTION:Hospitality Packages
URL:https://unlimitedjoy.co.uk/event/harry-potter-studio-tour-2/2026-01-31/
LOCATION:Warner Bros. Studio Tour London\, WD25 7LR\, United Kingdom
CATEGORIES:Culture
ATTACH;FMTTYPE=image/jpeg:https://unlimitedjoy.co.uk/wp-content/uploads/2023/09/f28696bf-a2f1-4401-bb5b-ead1a67d9f32.jpg
END:VEVENT
BEGIN:VEVENT
DTSTART;VALUE=DATE:20260110
DTEND;VALUE=DATE:20260203
DTSTAMP:20260422T161911
CREATED:20240926T144536Z
LAST-MODIFIED:20250228T101940Z
UID:10005543-1768003200-1770076799@unlimitedjoy.co.uk
SUMMARY:Strictly Come Dancing
DESCRIPTION:Dates TBC
URL:https://unlimitedjoy.co.uk/event/strictly-come-dancing/
CATEGORIES:Arts, Theatre & Comedy,Culture
ATTACH;FMTTYPE=image/jpeg:https://unlimitedjoy.co.uk/wp-content/uploads/2024/09/strictly-come-dancing.jpg
END:VEVENT
BEGIN:VEVENT
DTSTART;VALUE=DATE:20251231
DTEND;VALUE=DATE:20260101
DTSTAMP:20260422T161911
CREATED:20230317T132720Z
LAST-MODIFIED:20250228T143050Z
UID:10005566-1767139200-1767225599@unlimitedjoy.co.uk
SUMMARY:Award Ceremonies
DESCRIPTION:Hospitality Packages
URL:https://unlimitedjoy.co.uk/event/award-ceremonies/2025-12-31/
CATEGORIES:Culture
ATTACH;FMTTYPE=image/jpeg:https://unlimitedjoy.co.uk/wp-content/uploads/2023/09/9f8662d6-216b-4966-92e1-9301091435c1.jpg
END:VEVENT
BEGIN:VEVENT
DTSTART;VALUE=DATE:20251230
DTEND;VALUE=DATE:20251231
DTSTAMP:20260422T161911
CREATED:20240911T113422Z
LAST-MODIFIED:20240911T113423Z
UID:10005504-1767052800-1767139199@unlimitedjoy.co.uk
SUMMARY:Theatre\, Opera and Ballet
DESCRIPTION:Hospitality Packages
URL:https://unlimitedjoy.co.uk/event/theatre-opera-and-ballet-2/2025-12-30/
CATEGORIES:Culture
ATTACH;FMTTYPE=image/jpeg:https://unlimitedjoy.co.uk/wp-content/uploads/2023/09/9f8662d6-216b-4966-92e1-9301091435c1.jpg
END:VEVENT
BEGIN:VEVENT
DTSTART;VALUE=DATE:20251229
DTEND;VALUE=DATE:20260101
DTSTAMP:20260422T161911
CREATED:20230316T093128Z
LAST-MODIFIED:20250227T143838Z
UID:10000167-1766966400-1767225599@unlimitedjoy.co.uk
SUMMARY:The Nutcracker
DESCRIPTION:Hospitality Packages
URL:https://unlimitedjoy.co.uk/event/the-nutcracker-royal-opera-house/
LOCATION:Royal Albert Hall\, United Kingdom
CATEGORIES:Arts, Theatre & Comedy,Culture
ATTACH;FMTTYPE=image/jpeg:https://unlimitedjoy.co.uk/wp-content/uploads/2023/07/58a02deb-ff89-411f-8733-60f905817072.jpg
END:VEVENT
BEGIN:VEVENT
DTSTART;VALUE=DATE:20251201
DTEND;VALUE=DATE:20251202
DTSTAMP:20260422T161911
CREATED:20230316T093125Z
LAST-MODIFIED:20250227T143506Z
UID:10000166-1764547200-1764633599@unlimitedjoy.co.uk
SUMMARY:British Fashion Awards
DESCRIPTION:Hospitality Packages
URL:https://unlimitedjoy.co.uk/event/british-fashion-awards/
LOCATION:Royal Albert Hall\, United Kingdom
CATEGORIES:Culture
ATTACH;FMTTYPE=image/jpeg:https://unlimitedjoy.co.uk/wp-content/uploads/2023/07/365ae163-179a-4f33-8a55-b38cd9762c07.jpg
END:VEVENT
BEGIN:VEVENT
DTSTART;VALUE=DATE:20251120
DTEND;VALUE=DATE:20260105
DTSTAMP:20260422T161911
CREATED:20230316T084338Z
LAST-MODIFIED:20250227T143316Z
UID:10000160-1763596800-1767571199@unlimitedjoy.co.uk
SUMMARY:Winter Wonderland
DESCRIPTION:Hospitality Packages
URL:https://unlimitedjoy.co.uk/event/winter-wonderland/
LOCATION:Hyde Park\, United Kingdom
CATEGORIES:Culture
ATTACH;FMTTYPE=image/jpeg:https://unlimitedjoy.co.uk/wp-content/uploads/2023/07/478e4153-42e0-43bd-a42f-10ba8c2523c7.jpg
END:VEVENT
BEGIN:VEVENT
DTSTART;VALUE=DATE:20251114
DTEND;VALUE=DATE:20260105
DTSTAMP:20260422T161911
CREATED:20230316T093119Z
LAST-MODIFIED:20250227T141825Z
UID:10000165-1763078400-1767571199@unlimitedjoy.co.uk
SUMMARY:Christmas at Kew
DESCRIPTION:Hospitality Packages
URL:https://unlimitedjoy.co.uk/event/christmas-at-kew/
LOCATION:Kew Gardens\, London\, United Kingdom
CATEGORIES:Arts, Theatre & Comedy,Culture
ATTACH;FMTTYPE=image/jpeg:https://unlimitedjoy.co.uk/wp-content/uploads/2023/07/2f4eddc0-1b4f-43ae-b927-56cc17854eba.jpg
END:VEVENT
BEGIN:VEVENT
DTSTART;VALUE=DATE:20251110
DTEND;VALUE=DATE:20251226
DTSTAMP:20260422T161911
CREATED:20230316T093132Z
LAST-MODIFIED:20250318T115634Z
UID:10005560-1762732800-1766707199@unlimitedjoy.co.uk
SUMMARY:Lapland UK
DESCRIPTION:Hospitality Package \n-Exclusive check in and golden lobby experience\n-‘An Elven Feast’ – private dining area with all food and drinks included.\n-Character meet and greet as part of the dining experience\n-Preferred seating throughout the show\n-Priority parking\n-A Guest Experience Host\n-Unlimited time in the Elven Village-Signed Foundation Story Book\n-£25 Jingles for every child in the party\n-Keepsake Lapland 2023 Bauble\n-Family Photo Package
URL:https://unlimitedjoy.co.uk/event/lapland-uk/2025-11-10/
CATEGORIES:Culture
ATTACH;FMTTYPE=image/jpeg:https://unlimitedjoy.co.uk/wp-content/uploads/2023/07/3517a05d-9714-4d8f-87d6-238784bce2d2.jpg
END:VEVENT
BEGIN:VEVENT
DTSTART;VALUE=DATE:20251015
DTEND;VALUE=DATE:20251020
DTSTAMP:20260422T161911
CREATED:20230317T132313Z
LAST-MODIFIED:20250227T135029Z
UID:10000186-1760486400-1760918399@unlimitedjoy.co.uk
SUMMARY:Frieze London & Frieze Masters
DESCRIPTION: Hospitality Packages
URL:https://unlimitedjoy.co.uk/event/frieze-festival/
LOCATION:Regents Park\, London\, NW1 4LL\, United Kingdom
CATEGORIES:Culture
ATTACH;FMTTYPE=image/jpeg:https://unlimitedjoy.co.uk/wp-content/uploads/2023/09/f71ffcc9-189f-482b-bfc6-bdcd98c8a727.jpg
END:VEVENT
BEGIN:VEVENT
DTSTART;VALUE=DATE:20250930
DTEND;VALUE=DATE:20251001
DTSTAMP:20260422T161911
CREATED:20240911T113422Z
LAST-MODIFIED:20240911T113423Z
UID:10005503-1759190400-1759276799@unlimitedjoy.co.uk
SUMMARY:Theatre\, Opera and Ballet
DESCRIPTION:Hospitality Packages
URL:https://unlimitedjoy.co.uk/event/theatre-opera-and-ballet-2/2025-09-30/
CATEGORIES:Culture
ATTACH;FMTTYPE=image/jpeg:https://unlimitedjoy.co.uk/wp-content/uploads/2023/09/9f8662d6-216b-4966-92e1-9301091435c1.jpg
END:VEVENT
BEGIN:VEVENT
DTSTART;VALUE=DATE:20250915
DTEND;VALUE=DATE:20250923
DTSTAMP:20260422T161911
CREATED:20230316T093132Z
LAST-MODIFIED:20250318T115634Z
UID:10005448-1757923200-1758560400@unlimitedjoy.co.uk
SUMMARY:Lapland UK
DESCRIPTION:Hospitality Package \n-Exclusive check in and golden lobby experience\n-‘An Elven Feast’ – private dining area with all food and drinks included.\n-Character meet and greet as part of the dining experience\n-Preferred seating throughout the show\n-Priority parking\n-A Guest Experience Host\n-Unlimited time in the Elven Village-Signed Foundation Story Book\n-£25 Jingles for every child in the party\n-Keepsake Lapland 2023 Bauble\n-Family Photo Package
URL:https://unlimitedjoy.co.uk/event/lapland-uk/2025-09-15/
CATEGORIES:Culture
ATTACH;FMTTYPE=image/jpeg:https://unlimitedjoy.co.uk/wp-content/uploads/2023/07/3517a05d-9714-4d8f-87d6-238784bce2d2.jpg
END:VEVENT
BEGIN:VEVENT
DTSTART;VALUE=DATE:20250913
DTEND;VALUE=DATE:20250914
DTSTAMP:20260422T161911
CREATED:20230316T082612Z
LAST-MODIFIED:20240913T115855Z
UID:10000144-1757721600-1757807999@unlimitedjoy.co.uk
SUMMARY:Last Night of the Proms
DESCRIPTION:H4: Hospitality Packages
URL:https://unlimitedjoy.co.uk/event/last-night-of-the-proms/
LOCATION:Royal Albert Hall\, United Kingdom
CATEGORIES:Culture,Music
ATTACH;FMTTYPE=image/jpeg:https://unlimitedjoy.co.uk/wp-content/uploads/2023/07/6a6ff437-59a2-4c30-b94a-beb668204799-scaled.jpg
END:VEVENT
BEGIN:VEVENT
DTSTART;VALUE=DATE:20250911
DTEND;VALUE=DATE:20250917
DTSTAMP:20260422T161911
CREATED:20230720T164443Z
LAST-MODIFIED:20250227T132814Z
UID:10000193-1757548800-1758067199@unlimitedjoy.co.uk
SUMMARY:London Fashion Week S/S
DESCRIPTION:Hospitality Packages
URL:https://unlimitedjoy.co.uk/event/london-fashion-week-s-s/
CATEGORIES:Culture
ATTACH;FMTTYPE=image/jpeg:https://unlimitedjoy.co.uk/wp-content/uploads/2023/07/cbc97e37-277c-40bd-b62f-0e64f5cfda1a-scaled.jpg
END:VEVENT
BEGIN:VEVENT
DTSTART;VALUE=DATE:20250910
DTEND;VALUE=DATE:20250911
DTSTAMP:20260422T161911
CREATED:20230316T082621Z
LAST-MODIFIED:20240912T093546Z
UID:10000146-1757462400-1757548799@unlimitedjoy.co.uk
SUMMARY:National Television Awards
DESCRIPTION:Hospitality 
URL:https://unlimitedjoy.co.uk/event/national-television-awards/
CATEGORIES:Arts, Theatre & Comedy,Culture
ATTACH;FMTTYPE=image/jpeg:https://unlimitedjoy.co.uk/wp-content/uploads/2023/07/ab3465c7-e3aa-4776-8601-f0756ca3c19d.jpg
END:VEVENT
BEGIN:VEVENT
DTSTART;VALUE=DATE:20250826
DTEND;VALUE=DATE:20250831
DTSTAMP:20260422T161911
CREATED:20230317T132338Z
LAST-MODIFIED:20240911T135519Z
UID:10000187-1756166400-1756598399@unlimitedjoy.co.uk
SUMMARY:Salon Prive
DESCRIPTION:Hospitality Packages
URL:https://unlimitedjoy.co.uk/event/salon-prive/
LOCATION:Aviva Blenheim Palace\, OX20 1UL\, United Kingdom
CATEGORIES:Culture,Motorsports,Sports
ATTACH;FMTTYPE=image/jpeg:https://unlimitedjoy.co.uk/wp-content/uploads/2023/09/ec27d7d6-d285-4d4d-89e0-486078d9f8c2-scaled.jpg
END:VEVENT
BEGIN:VEVENT
DTSTART;VALUE=DATE:20250729
DTEND;VALUE=DATE:20250730
DTSTAMP:20260422T161911
CREATED:20240911T113422Z
LAST-MODIFIED:20240911T113423Z
UID:10005502-1753747200-1753833599@unlimitedjoy.co.uk
SUMMARY:Theatre\, Opera and Ballet
DESCRIPTION:Hospitality Packages
URL:https://unlimitedjoy.co.uk/event/theatre-opera-and-ballet-2/2025-07-29/
CATEGORIES:Culture
ATTACH;FMTTYPE=image/jpeg:https://unlimitedjoy.co.uk/wp-content/uploads/2023/09/9f8662d6-216b-4966-92e1-9301091435c1.jpg
END:VEVENT
BEGIN:VEVENT
DTSTART;VALUE=DATE:20250701
DTEND;VALUE=DATE:20250707
DTSTAMP:20260422T161911
CREATED:20230317T132134Z
LAST-MODIFIED:20240911T120614Z
UID:10000185-1751328000-1751846399@unlimitedjoy.co.uk
SUMMARY:Hampton Court Palace Garden Show
DESCRIPTION:Hospitality Packages \nTuesday 1st July – Saturday 5th July\n10am – 6.30pm\n\nSunday 6th July\n10am – 5.30pm
URL:https://unlimitedjoy.co.uk/event/hampton-court-flower-show/
LOCATION:Hampton Court Palace\, KT8 9AU
CATEGORIES:Culture
ATTACH;FMTTYPE=image/jpeg:https://unlimitedjoy.co.uk/wp-content/uploads/2023/03/Hampton-Court-Palace.jpg
END:VEVENT
BEGIN:VEVENT
DTSTART;VALUE=DATE:20250701
DTEND;VALUE=DATE:20250703
DTSTAMP:20260422T161911
CREATED:20230317T132649Z
LAST-MODIFIED:20250227T132505Z
UID:10005296-1751328000-1751500799@unlimitedjoy.co.uk
SUMMARY:Theatre\, Opera and Ballet
DESCRIPTION:Hospitality Packages
URL:https://unlimitedjoy.co.uk/event/theatre-opera-and-ballet/
CATEGORIES:Culture
ATTACH;FMTTYPE=image/jpeg:https://unlimitedjoy.co.uk/wp-content/uploads/2023/09/9f8662d6-216b-4966-92e1-9301091435c1.jpg
END:VEVENT
BEGIN:VEVENT
DTSTART;VALUE=DATE:20250626
DTEND;VALUE=DATE:20250627
DTSTAMP:20260422T161911
CREATED:20250228T152416Z
LAST-MODIFIED:20250228T152416Z
UID:10005584-1750896000-1750982399@unlimitedjoy.co.uk
SUMMARY:Guns N Roses
DESCRIPTION:Hospitality Packages
URL:https://unlimitedjoy.co.uk/event/guns-n-roses/
LOCATION:Wembley Stadium\, United Kingdom
CATEGORIES:Culture,Music
ATTACH;FMTTYPE=image/jpeg:https://unlimitedjoy.co.uk/wp-content/uploads/2025/02/guns_and_roses_2018.jpg
END:VEVENT
BEGIN:VEVENT
DTSTART;VALUE=DATE:20250618
DTEND;VALUE=DATE:20250623
DTSTAMP:20260422T161911
CREATED:20230315T153342Z
LAST-MODIFIED:20250228T143839Z
UID:10000114-1750204800-1750636799@unlimitedjoy.co.uk
SUMMARY:Taste of London
DESCRIPTION:Hospitality Packages
URL:https://unlimitedjoy.co.uk/event/taste-of-london/
LOCATION:Regents Park\, London\, NW1 4LL\, United Kingdom
CATEGORIES:Culture
ATTACH;FMTTYPE=image/jpeg:https://unlimitedjoy.co.uk/wp-content/uploads/2023/03/Taste-of-London-Festival.jpg
END:VEVENT
BEGIN:VEVENT
DTSTART;VALUE=DATE:20250611
DTEND;VALUE=DATE:20250622
DTSTAMP:20260422T161911
CREATED:20230315T153408Z
LAST-MODIFIED:20250228T143657Z
UID:10000115-1749600000-1750550399@unlimitedjoy.co.uk
SUMMARY:Hampton Court Palace Festival
DESCRIPTION:Hospitality Packages \nJames – 11 June 2025 \nRag ‘n’ Bone Man – 12 June 2025 \nTom Jones – 13 June 2025 \nBananarama – 14 June 2025 \nThe Good the Bad and the Rugby – 15 June 2025 \n10CC – 17 June 2025 \nChaka Khan – 18 June 2025 \nGary Barlow – 19 June 2025 \nElbow – 20 & 21 June 2025 \n 
URL:https://unlimitedjoy.co.uk/event/hampton-court-palace-festival/
LOCATION:Hampton Court Palace\, KT8 9AU
CATEGORIES:Culture,Music
ATTACH;FMTTYPE=image/jpeg:https://unlimitedjoy.co.uk/wp-content/uploads/2023/03/Hampton-Court-Palace-Festival.jpg
END:VEVENT
BEGIN:VEVENT
DTSTART;VALUE=DATE:20250520
DTEND;VALUE=DATE:20250525
DTSTAMP:20260422T161911
CREATED:20230315T152113Z
LAST-MODIFIED:20240911T113323Z
UID:10000095-1747699200-1748131199@unlimitedjoy.co.uk
SUMMARY:RHS Chelsea Flower Show
DESCRIPTION:Hospitality Packages
URL:https://unlimitedjoy.co.uk/event/rhs-chelsea-flower-show/
LOCATION:Royal Hospital Road\, London\, SW3 4SR\, United Kingdom
CATEGORIES:Culture
ATTACH;FMTTYPE=image/jpeg:https://unlimitedjoy.co.uk/wp-content/uploads/2023/03/RHS-Chelsea-Flower-Show.jpg
END:VEVENT
BEGIN:VEVENT
DTSTART;VALUE=DATE:20250503
DTEND;VALUE=DATE:20260407
DTSTAMP:20260422T161911
CREATED:20250228T103351Z
LAST-MODIFIED:20250228T103352Z
UID:10005562-1746230400-1775519999@unlimitedjoy.co.uk
SUMMARY:ABBA Voyage
DESCRIPTION:
URL:https://unlimitedjoy.co.uk/event/abba-voyage-2/2025-05-03/
LOCATION:ABBA Arena\, E15 2PJ
CATEGORIES:Arts, Theatre & Comedy,Culture,Music
ATTACH;FMTTYPE=image/jpeg:https://unlimitedjoy.co.uk/wp-content/uploads/2023/09/c970878a-e9d2-4868-ab76-3ba4aeab5e3b.jpg
END:VEVENT
BEGIN:VEVENT
DTSTART;VALUE=DATE:20250429
DTEND;VALUE=DATE:20250430
DTSTAMP:20260422T161911
CREATED:20240911T113422Z
LAST-MODIFIED:20240911T113423Z
UID:10005501-1745884800-1745971199@unlimitedjoy.co.uk
SUMMARY:Theatre\, Opera and Ballet
DESCRIPTION:Hospitality Packages
URL:https://unlimitedjoy.co.uk/event/theatre-opera-and-ballet-2/2025-04-29/
CATEGORIES:Culture
ATTACH;FMTTYPE=image/jpeg:https://unlimitedjoy.co.uk/wp-content/uploads/2023/09/9f8662d6-216b-4966-92e1-9301091435c1.jpg
END:VEVENT
BEGIN:VEVENT
DTSTART;VALUE=DATE:20250405
DTEND;VALUE=DATE:20260310
DTSTAMP:20260422T161911
CREATED:20250228T103351Z
LAST-MODIFIED:20250228T103352Z
UID:10005561-1743811200-1773100799@unlimitedjoy.co.uk
SUMMARY:ABBA Voyage
DESCRIPTION:
URL:https://unlimitedjoy.co.uk/event/abba-voyage-2/2025-04-05/
LOCATION:ABBA Arena\, E15 2PJ
CATEGORIES:Arts, Theatre & Comedy,Culture,Music
ATTACH;FMTTYPE=image/jpeg:https://unlimitedjoy.co.uk/wp-content/uploads/2023/09/c970878a-e9d2-4868-ab76-3ba4aeab5e3b.jpg
END:VEVENT
BEGIN:VEVENT
DTSTART;VALUE=DATE:20250306
DTEND;VALUE=DATE:20250314
DTSTAMP:20260422T161911
CREATED:20240911T103403Z
LAST-MODIFIED:20240911T103403Z
UID:10005498-1741219200-1741910399@unlimitedjoy.co.uk
SUMMARY:Usher
DESCRIPTION:1st April: The O2 Arena\, London\n2nd April: The O2 Arena\, London\n5th April: The O2 Arena\, London
URL:https://unlimitedjoy.co.uk/event/usher/
CATEGORIES:Culture
ATTACH;FMTTYPE=image/jpeg:https://unlimitedjoy.co.uk/wp-content/uploads/2024/09/usher.jpg
END:VEVENT
BEGIN:VEVENT
DTSTART;VALUE=DATE:20250306
DTEND;VALUE=DATE:20250314
DTSTAMP:20260422T161911
CREATED:20240911T102442Z
LAST-MODIFIED:20240911T102442Z
UID:10005497-1741219200-1741910399@unlimitedjoy.co.uk
SUMMARY:Sabrina Carpenter
DESCRIPTION:6th March: Birmingham\, Utilita Arena\n8th March: London\, The O2\n11th March: Glasgow\, OVO Hydro\n13th March: Manchester\, Co-op Live
URL:https://unlimitedjoy.co.uk/event/sabrina-carpenter/
CATEGORIES:Culture
ATTACH;FMTTYPE=image/jpeg:https://unlimitedjoy.co.uk/wp-content/uploads/2024/09/Sabrina-Carpenter.jpg
END:VEVENT
END:VCALENDAR