BEGIN:VCALENDAR
VERSION:2.0
PRODID:-//Hospitality and Events Packages | Unlimited Joy - ECPv6.15.20//NONSGML v1.0//EN
CALSCALE:GREGORIAN
METHOD:PUBLISH
X-WR-CALNAME:Hospitality and Events Packages | Unlimited Joy
X-ORIGINAL-URL:https://unlimitedjoy.co.uk
X-WR-CALDESC:Events for Hospitality and Events Packages | Unlimited Joy
REFRESH-INTERVAL;VALUE=DURATION:PT1H
X-Robots-Tag:noindex
X-PUBLISHED-TTL:PT1H
BEGIN:VTIMEZONE
TZID:UTC
BEGIN:STANDARD
TZOFFSETFROM:+0000
TZOFFSETTO:+0000
TZNAME:UTC
DTSTART:20250101T000000
END:STANDARD
END:VTIMEZONE
BEGIN:VEVENT
DTSTART;VALUE=DATE:20260929
DTEND;VALUE=DATE:20260930
DTSTAMP:20260422T220655
CREATED:20240911T113422Z
LAST-MODIFIED:20240911T113423Z
UID:10005507-1790640000-1790726399@unlimitedjoy.co.uk
SUMMARY:Theatre\, Opera and Ballet
DESCRIPTION:Hospitality Packages
URL:https://unlimitedjoy.co.uk/event/theatre-opera-and-ballet-2/2026-09-29/
CATEGORIES:Culture
ATTACH;FMTTYPE=image/jpeg:https://unlimitedjoy.co.uk/wp-content/uploads/2023/09/9f8662d6-216b-4966-92e1-9301091435c1.jpg
END:VEVENT
END:VCALENDAR