BEGIN:VCALENDAR
VERSION:2.0
PRODID:-//Hospitality and Events Packages | Unlimited Joy - ECPv6.15.20//NONSGML v1.0//EN
CALSCALE:GREGORIAN
METHOD:PUBLISH
X-ORIGINAL-URL:https://unlimitedjoy.co.uk
X-WR-CALDESC:Events for Hospitality and Events Packages | Unlimited Joy
REFRESH-INTERVAL;VALUE=DURATION:PT1H
X-Robots-Tag:noindex
X-PUBLISHED-TTL:PT1H
BEGIN:VTIMEZONE
TZID:UTC
BEGIN:STANDARD
TZOFFSETFROM:+0000
TZOFFSETTO:+0000
TZNAME:UTC
DTSTART:20250101T000000
END:STANDARD
END:VTIMEZONE
BEGIN:VEVENT
DTSTART;VALUE=DATE:20261015
DTEND;VALUE=DATE:20261016
DTSTAMP:20260423T025342
CREATED:20230316T083508Z
LAST-MODIFIED:20250227T140507Z
UID:10000155-1792022400-1792108799@unlimitedjoy.co.uk
SUMMARY:London Bierfest
DESCRIPTION:Hospitality Packages \nNB 2025 will be a fallow year. London Bierfest will return in 2026.
URL:https://unlimitedjoy.co.uk/event/london-bierfest/
CATEGORIES:Culture
ATTACH;FMTTYPE=image/jpeg:https://unlimitedjoy.co.uk/wp-content/uploads/2023/07/27fd7720-821a-4a4d-85c4-5843fcca81c4.jpg
END:VEVENT
END:VCALENDAR