BEGIN:VCALENDAR
VERSION:2.0
PRODID:-//Hospitality and Events Packages | Unlimited Joy - ECPv6.15.20//NONSGML v1.0//EN
CALSCALE:GREGORIAN
METHOD:PUBLISH
X-WR-CALNAME:Hospitality and Events Packages | Unlimited Joy
X-ORIGINAL-URL:https://unlimitedjoy.co.uk
X-WR-CALDESC:Events for Hospitality and Events Packages | Unlimited Joy
REFRESH-INTERVAL;VALUE=DURATION:PT1H
X-Robots-Tag:noindex
X-PUBLISHED-TTL:PT1H
BEGIN:VTIMEZONE
TZID:UTC
BEGIN:STANDARD
TZOFFSETFROM:+0000
TZOFFSETTO:+0000
TZNAME:UTC
DTSTART:20240101T000000
END:STANDARD
END:VTIMEZONE
BEGIN:VEVENT
DTSTART;VALUE=DATE:20250301
DTEND;VALUE=DATE:20260203
DTSTAMP:20260422T220937
CREATED:20250228T103351Z
LAST-MODIFIED:20250228T103352Z
UID:10005462-1740787200-1770076799@unlimitedjoy.co.uk
SUMMARY:ABBA Voyage
DESCRIPTION:
URL:https://unlimitedjoy.co.uk/event/abba-voyage-2/2025-03-01/
LOCATION:ABBA Arena\, E15 2PJ
CATEGORIES:Arts, Theatre & Comedy,Culture,Music
ATTACH;FMTTYPE=image/jpeg:https://unlimitedjoy.co.uk/wp-content/uploads/2023/09/c970878a-e9d2-4868-ab76-3ba4aeab5e3b.jpg
END:VEVENT
BEGIN:VEVENT
DTSTART;VALUE=DATE:20250308
DTEND;VALUE=DATE:20260222
DTSTAMP:20260422T220937
CREATED:20230918T153109Z
LAST-MODIFIED:20250227T130210Z
UID:10004208-1741392000-1771718399@unlimitedjoy.co.uk
SUMMARY:Peter Kay
DESCRIPTION:Hospitality 
URL:https://unlimitedjoy.co.uk/event/peter-kay/
LOCATION:United Kingdom\, United Kingdom
CATEGORIES:Arts, Theatre & Comedy
ATTACH;FMTTYPE=image/jpeg:https://unlimitedjoy.co.uk/wp-content/uploads/2023/07/1548bd7d-028c-4802-9d8a-33fbad810b64.jpg
END:VEVENT
BEGIN:VEVENT
DTSTART;VALUE=DATE:20250405
DTEND;VALUE=DATE:20260310
DTSTAMP:20260422T220937
CREATED:20250228T103351Z
LAST-MODIFIED:20250228T103352Z
UID:10005561-1743811200-1773100799@unlimitedjoy.co.uk
SUMMARY:ABBA Voyage
DESCRIPTION:
URL:https://unlimitedjoy.co.uk/event/abba-voyage-2/2025-04-05/
LOCATION:ABBA Arena\, E15 2PJ
CATEGORIES:Arts, Theatre & Comedy,Culture,Music
ATTACH;FMTTYPE=image/jpeg:https://unlimitedjoy.co.uk/wp-content/uploads/2023/09/c970878a-e9d2-4868-ab76-3ba4aeab5e3b.jpg
END:VEVENT
BEGIN:VEVENT
DTSTART;VALUE=DATE:20250503
DTEND;VALUE=DATE:20260407
DTSTAMP:20260422T220937
CREATED:20250228T103351Z
LAST-MODIFIED:20250228T103352Z
UID:10005562-1746230400-1775519999@unlimitedjoy.co.uk
SUMMARY:ABBA Voyage
DESCRIPTION:
URL:https://unlimitedjoy.co.uk/event/abba-voyage-2/2025-05-03/
LOCATION:ABBA Arena\, E15 2PJ
CATEGORIES:Arts, Theatre & Comedy,Culture,Music
ATTACH;FMTTYPE=image/jpeg:https://unlimitedjoy.co.uk/wp-content/uploads/2023/09/c970878a-e9d2-4868-ab76-3ba4aeab5e3b.jpg
END:VEVENT
BEGIN:VEVENT
DTSTART;VALUE=DATE:20260110
DTEND;VALUE=DATE:20260203
DTSTAMP:20260422T220937
CREATED:20240926T144536Z
LAST-MODIFIED:20250228T101940Z
UID:10005543-1768003200-1770076799@unlimitedjoy.co.uk
SUMMARY:Strictly Come Dancing
DESCRIPTION:Dates TBC
URL:https://unlimitedjoy.co.uk/event/strictly-come-dancing/
CATEGORIES:Arts, Theatre & Comedy,Culture
ATTACH;FMTTYPE=image/jpeg:https://unlimitedjoy.co.uk/wp-content/uploads/2024/09/strictly-come-dancing.jpg
END:VEVENT
END:VCALENDAR