BEGIN:VCALENDAR
VERSION:2.0
PRODID:-//Hospitality and Events Packages | Unlimited Joy - ECPv6.15.20//NONSGML v1.0//EN
CALSCALE:GREGORIAN
METHOD:PUBLISH
X-WR-CALNAME:Hospitality and Events Packages | Unlimited Joy
X-ORIGINAL-URL:https://unlimitedjoy.co.uk
X-WR-CALDESC:Events for Hospitality and Events Packages | Unlimited Joy
REFRESH-INTERVAL;VALUE=DURATION:PT1H
X-Robots-Tag:noindex
X-PUBLISHED-TTL:PT1H
BEGIN:VTIMEZONE
TZID:UTC
BEGIN:STANDARD
TZOFFSETFROM:+0000
TZOFFSETTO:+0000
TZNAME:UTC
DTSTART:20230101T000000
END:STANDARD
END:VTIMEZONE
BEGIN:VEVENT
DTSTART;VALUE=DATE:20240909
DTEND;VALUE=DATE:20261019
DTSTAMP:20260422T115722
CREATED:20250228T100830Z
LAST-MODIFIED:20250228T143136Z
UID:10000174-1725868800-1792342800@unlimitedjoy.co.uk
SUMMARY:T20 Blast
DESCRIPTION:Hospitality Packages \n  \n 
URL:https://unlimitedjoy.co.uk/event/t20-blast/
CATEGORIES:Cricket,Sports
ATTACH;FMTTYPE=image/jpeg:https://unlimitedjoy.co.uk/wp-content/uploads/2023/07/43f983cb-2442-4f17-b31f-2611006a67ee-scaled.jpg
END:VEVENT
BEGIN:VEVENT
DTSTART;VALUE=DATE:20260429
DTEND;VALUE=DATE:20260430
DTSTAMP:20260422T115722
CREATED:20230317T132720Z
LAST-MODIFIED:20250228T143050Z
UID:10005567-1777420800-1777507199@unlimitedjoy.co.uk
SUMMARY:Award Ceremonies
DESCRIPTION:Hospitality Packages
URL:https://unlimitedjoy.co.uk/event/award-ceremonies/2026-04-29/
CATEGORIES:Culture
ATTACH;FMTTYPE=image/jpeg:https://unlimitedjoy.co.uk/wp-content/uploads/2023/09/9f8662d6-216b-4966-92e1-9301091435c1.jpg
END:VEVENT
BEGIN:VEVENT
DTSTART;VALUE=DATE:20260630
DTEND;VALUE=DATE:20260701
DTSTAMP:20260422T115722
CREATED:20240911T113422Z
LAST-MODIFIED:20240911T113423Z
UID:10005506-1782777600-1782863999@unlimitedjoy.co.uk
SUMMARY:Theatre\, Opera and Ballet
DESCRIPTION:Hospitality Packages
URL:https://unlimitedjoy.co.uk/event/theatre-opera-and-ballet-2/2026-06-30/
CATEGORIES:Culture
ATTACH;FMTTYPE=image/jpeg:https://unlimitedjoy.co.uk/wp-content/uploads/2023/09/9f8662d6-216b-4966-92e1-9301091435c1.jpg
END:VEVENT
BEGIN:VEVENT
DTSTART;VALUE=DATE:20260729
DTEND;VALUE=DATE:20260730
DTSTAMP:20260422T115722
CREATED:20230317T132720Z
LAST-MODIFIED:20250228T143050Z
UID:10005568-1785283200-1785369599@unlimitedjoy.co.uk
SUMMARY:Award Ceremonies
DESCRIPTION:Hospitality Packages
URL:https://unlimitedjoy.co.uk/event/award-ceremonies/2026-07-29/
CATEGORIES:Culture
ATTACH;FMTTYPE=image/jpeg:https://unlimitedjoy.co.uk/wp-content/uploads/2023/09/9f8662d6-216b-4966-92e1-9301091435c1.jpg
END:VEVENT
BEGIN:VEVENT
DTSTART;VALUE=DATE:20260929
DTEND;VALUE=DATE:20260930
DTSTAMP:20260422T115722
CREATED:20240911T113422Z
LAST-MODIFIED:20240911T113423Z
UID:10005507-1790640000-1790726399@unlimitedjoy.co.uk
SUMMARY:Theatre\, Opera and Ballet
DESCRIPTION:Hospitality Packages
URL:https://unlimitedjoy.co.uk/event/theatre-opera-and-ballet-2/2026-09-29/
CATEGORIES:Culture
ATTACH;FMTTYPE=image/jpeg:https://unlimitedjoy.co.uk/wp-content/uploads/2023/09/9f8662d6-216b-4966-92e1-9301091435c1.jpg
END:VEVENT
BEGIN:VEVENT
DTSTART;VALUE=DATE:20260930
DTEND;VALUE=DATE:20261001
DTSTAMP:20260422T115722
CREATED:20230317T132720Z
LAST-MODIFIED:20250228T143050Z
UID:10005569-1790726400-1790812799@unlimitedjoy.co.uk
SUMMARY:Award Ceremonies
DESCRIPTION:Hospitality Packages
URL:https://unlimitedjoy.co.uk/event/award-ceremonies/2026-09-30/
CATEGORIES:Culture
ATTACH;FMTTYPE=image/jpeg:https://unlimitedjoy.co.uk/wp-content/uploads/2023/09/9f8662d6-216b-4966-92e1-9301091435c1.jpg
END:VEVENT
BEGIN:VEVENT
DTSTART;VALUE=DATE:20261015
DTEND;VALUE=DATE:20261016
DTSTAMP:20260422T115722
CREATED:20230316T083508Z
LAST-MODIFIED:20250227T140507Z
UID:10000155-1792022400-1792108799@unlimitedjoy.co.uk
SUMMARY:London Bierfest
DESCRIPTION:Hospitality Packages \nNB 2025 will be a fallow year. London Bierfest will return in 2026.
URL:https://unlimitedjoy.co.uk/event/london-bierfest/
CATEGORIES:Culture
ATTACH;FMTTYPE=image/jpeg:https://unlimitedjoy.co.uk/wp-content/uploads/2023/07/27fd7720-821a-4a4d-85c4-5843fcca81c4.jpg
END:VEVENT
BEGIN:VEVENT
DTSTART;VALUE=DATE:20261120
DTEND;VALUE=DATE:20270307
DTSTAMP:20260422T115722
CREATED:20230317T101104Z
LAST-MODIFIED:20250227T131426Z
UID:10005457-1795132800-1804377599@unlimitedjoy.co.uk
SUMMARY:ODI Hospitality
DESCRIPTION:Hospitality Packages\nPlease contact our team for current availability. \nEngland v West Indies \nEngland v South Africa
URL:https://unlimitedjoy.co.uk/event/odi-hospitality/
CATEGORIES:Cricket,Sports
ATTACH;FMTTYPE=image/jpeg:https://unlimitedjoy.co.uk/wp-content/uploads/2023/03/Edgbaston-Cricket-Ground.jpg
END:VEVENT
BEGIN:VEVENT
DTSTART;VALUE=DATE:20261229
DTEND;VALUE=DATE:20261230
DTSTAMP:20260422T115722
CREATED:20240911T113422Z
LAST-MODIFIED:20240911T113423Z
UID:10005508-1798502400-1798588799@unlimitedjoy.co.uk
SUMMARY:Theatre\, Opera and Ballet
DESCRIPTION:Hospitality Packages
URL:https://unlimitedjoy.co.uk/event/theatre-opera-and-ballet-2/2026-12-29/
CATEGORIES:Culture
ATTACH;FMTTYPE=image/jpeg:https://unlimitedjoy.co.uk/wp-content/uploads/2023/09/9f8662d6-216b-4966-92e1-9301091435c1.jpg
END:VEVENT
BEGIN:VEVENT
DTSTART;VALUE=DATE:20261230
DTEND;VALUE=DATE:20261231
DTSTAMP:20260422T115722
CREATED:20230317T132720Z
LAST-MODIFIED:20250228T143050Z
UID:10005570-1798588800-1798675199@unlimitedjoy.co.uk
SUMMARY:Award Ceremonies
DESCRIPTION:Hospitality Packages
URL:https://unlimitedjoy.co.uk/event/award-ceremonies/2026-12-30/
CATEGORIES:Culture
ATTACH;FMTTYPE=image/jpeg:https://unlimitedjoy.co.uk/wp-content/uploads/2023/09/9f8662d6-216b-4966-92e1-9301091435c1.jpg
END:VEVENT
BEGIN:VEVENT
DTSTART;VALUE=DATE:20270330
DTEND;VALUE=DATE:20270331
DTSTAMP:20260422T115722
CREATED:20240911T113422Z
LAST-MODIFIED:20240911T113423Z
UID:10005509-1806364800-1806451199@unlimitedjoy.co.uk
SUMMARY:Theatre\, Opera and Ballet
DESCRIPTION:Hospitality Packages
URL:https://unlimitedjoy.co.uk/event/theatre-opera-and-ballet-2/2027-03-30/
CATEGORIES:Culture
ATTACH;FMTTYPE=image/jpeg:https://unlimitedjoy.co.uk/wp-content/uploads/2023/09/9f8662d6-216b-4966-92e1-9301091435c1.jpg
END:VEVENT
BEGIN:VEVENT
DTSTART;VALUE=DATE:20270331
DTEND;VALUE=DATE:20270401
DTSTAMP:20260422T115722
CREATED:20230317T132720Z
LAST-MODIFIED:20250228T143050Z
UID:10005571-1806451200-1806537599@unlimitedjoy.co.uk
SUMMARY:Award Ceremonies
DESCRIPTION:Hospitality Packages
URL:https://unlimitedjoy.co.uk/event/award-ceremonies/2027-03-31/
CATEGORIES:Culture
ATTACH;FMTTYPE=image/jpeg:https://unlimitedjoy.co.uk/wp-content/uploads/2023/09/9f8662d6-216b-4966-92e1-9301091435c1.jpg
END:VEVENT
BEGIN:VEVENT
DTSTART;VALUE=DATE:20270629
DTEND;VALUE=DATE:20270630
DTSTAMP:20260422T115722
CREATED:20240911T113422Z
LAST-MODIFIED:20240911T113423Z
UID:10005510-1814227200-1814313599@unlimitedjoy.co.uk
SUMMARY:Theatre\, Opera and Ballet
DESCRIPTION:Hospitality Packages
URL:https://unlimitedjoy.co.uk/event/theatre-opera-and-ballet-2/2027-06-29/
CATEGORIES:Culture
ATTACH;FMTTYPE=image/jpeg:https://unlimitedjoy.co.uk/wp-content/uploads/2023/09/9f8662d6-216b-4966-92e1-9301091435c1.jpg
END:VEVENT
BEGIN:VEVENT
DTSTART;VALUE=DATE:20270630
DTEND;VALUE=DATE:20270701
DTSTAMP:20260422T115722
CREATED:20230317T132720Z
LAST-MODIFIED:20250228T143050Z
UID:10005572-1814313600-1814399999@unlimitedjoy.co.uk
SUMMARY:Award Ceremonies
DESCRIPTION:Hospitality Packages
URL:https://unlimitedjoy.co.uk/event/award-ceremonies/2027-06-30/
CATEGORIES:Culture
ATTACH;FMTTYPE=image/jpeg:https://unlimitedjoy.co.uk/wp-content/uploads/2023/09/9f8662d6-216b-4966-92e1-9301091435c1.jpg
END:VEVENT
BEGIN:VEVENT
DTSTART;VALUE=DATE:20270831
DTEND;VALUE=DATE:20270901
DTSTAMP:20260422T115722
CREATED:20240911T113422Z
LAST-MODIFIED:20240911T113423Z
UID:10005511-1819670400-1819756799@unlimitedjoy.co.uk
SUMMARY:Theatre\, Opera and Ballet
DESCRIPTION:Hospitality Packages
URL:https://unlimitedjoy.co.uk/event/theatre-opera-and-ballet-2/2027-08-31/
CATEGORIES:Culture
ATTACH;FMTTYPE=image/jpeg:https://unlimitedjoy.co.uk/wp-content/uploads/2023/09/9f8662d6-216b-4966-92e1-9301091435c1.jpg
END:VEVENT
BEGIN:VEVENT
DTSTART;VALUE=DATE:20270929
DTEND;VALUE=DATE:20270930
DTSTAMP:20260422T115722
CREATED:20230317T132720Z
LAST-MODIFIED:20250228T143050Z
UID:10005573-1822176000-1822262399@unlimitedjoy.co.uk
SUMMARY:Award Ceremonies
DESCRIPTION:Hospitality Packages
URL:https://unlimitedjoy.co.uk/event/award-ceremonies/2027-09-29/
CATEGORIES:Culture
ATTACH;FMTTYPE=image/jpeg:https://unlimitedjoy.co.uk/wp-content/uploads/2023/09/9f8662d6-216b-4966-92e1-9301091435c1.jpg
END:VEVENT
BEGIN:VEVENT
DTSTART;VALUE=DATE:20271023
DTEND;VALUE=DATE:20271220
DTSTAMP:20260422T115722
CREATED:20230914T112842Z
LAST-MODIFIED:20240910T104833Z
UID:10000200-1824249600-1829260799@unlimitedjoy.co.uk
SUMMARY:Rugby World Cup Final 2027
DESCRIPTION:
URL:https://unlimitedjoy.co.uk/event/rugby-world-cup-final-2023/
CATEGORIES:Rugby,Sports
ATTACH;FMTTYPE=image/jpeg:https://unlimitedjoy.co.uk/wp-content/uploads/2023/03/Rugby-World-Cup.jpg
END:VEVENT
BEGIN:VEVENT
DTSTART;VALUE=DATE:20271130
DTEND;VALUE=DATE:20271201
DTSTAMP:20260422T115722
CREATED:20240911T113422Z
LAST-MODIFIED:20240911T113423Z
UID:10005512-1827532800-1827619199@unlimitedjoy.co.uk
SUMMARY:Theatre\, Opera and Ballet
DESCRIPTION:Hospitality Packages
URL:https://unlimitedjoy.co.uk/event/theatre-opera-and-ballet-2/2027-11-30/
CATEGORIES:Culture
ATTACH;FMTTYPE=image/jpeg:https://unlimitedjoy.co.uk/wp-content/uploads/2023/09/9f8662d6-216b-4966-92e1-9301091435c1.jpg
END:VEVENT
BEGIN:VEVENT
DTSTART;VALUE=DATE:20271229
DTEND;VALUE=DATE:20271230
DTSTAMP:20260422T115722
CREATED:20230317T132720Z
LAST-MODIFIED:20250228T143050Z
UID:10005574-1830038400-1830124799@unlimitedjoy.co.uk
SUMMARY:Award Ceremonies
DESCRIPTION:Hospitality Packages
URL:https://unlimitedjoy.co.uk/event/award-ceremonies/2027-12-29/
CATEGORIES:Culture
ATTACH;FMTTYPE=image/jpeg:https://unlimitedjoy.co.uk/wp-content/uploads/2023/09/9f8662d6-216b-4966-92e1-9301091435c1.jpg
END:VEVENT
BEGIN:VEVENT
DTSTART;VALUE=DATE:20280229
DTEND;VALUE=DATE:20280301
DTSTAMP:20260422T115722
CREATED:20240911T113422Z
LAST-MODIFIED:20240911T113423Z
UID:10005513-1835395200-1835481599@unlimitedjoy.co.uk
SUMMARY:Theatre\, Opera and Ballet
DESCRIPTION:Hospitality Packages
URL:https://unlimitedjoy.co.uk/event/theatre-opera-and-ballet-2/2028-02-29/
CATEGORIES:Culture
ATTACH;FMTTYPE=image/jpeg:https://unlimitedjoy.co.uk/wp-content/uploads/2023/09/9f8662d6-216b-4966-92e1-9301091435c1.jpg
END:VEVENT
BEGIN:VEVENT
DTSTART;VALUE=DATE:20280329
DTEND;VALUE=DATE:20280330
DTSTAMP:20260422T115722
CREATED:20230317T132720Z
LAST-MODIFIED:20250228T143050Z
UID:10005575-1837900800-1837987199@unlimitedjoy.co.uk
SUMMARY:Award Ceremonies
DESCRIPTION:Hospitality Packages
URL:https://unlimitedjoy.co.uk/event/award-ceremonies/2028-03-29/
CATEGORIES:Culture
ATTACH;FMTTYPE=image/jpeg:https://unlimitedjoy.co.uk/wp-content/uploads/2023/09/9f8662d6-216b-4966-92e1-9301091435c1.jpg
END:VEVENT
BEGIN:VEVENT
DTSTART;VALUE=DATE:20280530
DTEND;VALUE=DATE:20280531
DTSTAMP:20260422T115722
CREATED:20240911T113422Z
LAST-MODIFIED:20240911T113423Z
UID:10005514-1843257600-1843343999@unlimitedjoy.co.uk
SUMMARY:Theatre\, Opera and Ballet
DESCRIPTION:Hospitality Packages
URL:https://unlimitedjoy.co.uk/event/theatre-opera-and-ballet-2/2028-05-30/
CATEGORIES:Culture
ATTACH;FMTTYPE=image/jpeg:https://unlimitedjoy.co.uk/wp-content/uploads/2023/09/9f8662d6-216b-4966-92e1-9301091435c1.jpg
END:VEVENT
BEGIN:VEVENT
DTSTART;VALUE=DATE:20280531
DTEND;VALUE=DATE:20280601
DTSTAMP:20260422T115722
CREATED:20230317T132720Z
LAST-MODIFIED:20250228T143050Z
UID:10005576-1843344000-1843430399@unlimitedjoy.co.uk
SUMMARY:Award Ceremonies
DESCRIPTION:Hospitality Packages
URL:https://unlimitedjoy.co.uk/event/award-ceremonies/2028-05-31/
CATEGORIES:Culture
ATTACH;FMTTYPE=image/jpeg:https://unlimitedjoy.co.uk/wp-content/uploads/2023/09/9f8662d6-216b-4966-92e1-9301091435c1.jpg
END:VEVENT
BEGIN:VEVENT
DTSTART;VALUE=DATE:20280714
DTEND;VALUE=DATE:20280828
DTSTAMP:20260422T115722
CREATED:20230919T110858Z
LAST-MODIFIED:20240913T134731Z
UID:10004574-1847145600-1851033599@unlimitedjoy.co.uk
SUMMARY:Olympic & Paralympic Games LA 2028
DESCRIPTION:Hospitality Packages \nOlympic games: 14th – 30th July \nParalympic games: 15 – 27th august
URL:https://unlimitedjoy.co.uk/event/olympic-paralympic-games-paris-2024/
LOCATION:Stade de France\, Paris\, France
CATEGORIES:Sports
ATTACH;FMTTYPE=image/jpeg:https://unlimitedjoy.co.uk/wp-content/uploads/2023/09/7a3a649e-b6b2-473d-bcaa-9b7016b77293.jpg
END:VEVENT
BEGIN:VEVENT
DTSTART;VALUE=DATE:20280829
DTEND;VALUE=DATE:20280830
DTSTAMP:20260422T115722
CREATED:20240911T113422Z
LAST-MODIFIED:20240911T113423Z
UID:10005515-1851120000-1851206399@unlimitedjoy.co.uk
SUMMARY:Theatre\, Opera and Ballet
DESCRIPTION:Hospitality Packages
URL:https://unlimitedjoy.co.uk/event/theatre-opera-and-ballet-2/2028-08-29/
CATEGORIES:Culture
ATTACH;FMTTYPE=image/jpeg:https://unlimitedjoy.co.uk/wp-content/uploads/2023/09/9f8662d6-216b-4966-92e1-9301091435c1.jpg
END:VEVENT
BEGIN:VEVENT
DTSTART;VALUE=DATE:20280830
DTEND;VALUE=DATE:20280831
DTSTAMP:20260422T115722
CREATED:20230317T132720Z
LAST-MODIFIED:20250228T143050Z
UID:10005577-1851206400-1851292799@unlimitedjoy.co.uk
SUMMARY:Award Ceremonies
DESCRIPTION:Hospitality Packages
URL:https://unlimitedjoy.co.uk/event/award-ceremonies/2028-08-30/
CATEGORIES:Culture
ATTACH;FMTTYPE=image/jpeg:https://unlimitedjoy.co.uk/wp-content/uploads/2023/09/9f8662d6-216b-4966-92e1-9301091435c1.jpg
END:VEVENT
BEGIN:VEVENT
DTSTART;VALUE=DATE:20281031
DTEND;VALUE=DATE:20281101
DTSTAMP:20260422T115722
CREATED:20240911T113422Z
LAST-MODIFIED:20240911T113423Z
UID:10005516-1856563200-1856649599@unlimitedjoy.co.uk
SUMMARY:Theatre\, Opera and Ballet
DESCRIPTION:Hospitality Packages
URL:https://unlimitedjoy.co.uk/event/theatre-opera-and-ballet-2/2028-10-31/
CATEGORIES:Culture
ATTACH;FMTTYPE=image/jpeg:https://unlimitedjoy.co.uk/wp-content/uploads/2023/09/9f8662d6-216b-4966-92e1-9301091435c1.jpg
END:VEVENT
BEGIN:VEVENT
DTSTART;VALUE=DATE:20281129
DTEND;VALUE=DATE:20281130
DTSTAMP:20260422T115722
CREATED:20230317T132720Z
LAST-MODIFIED:20250228T143050Z
UID:10005578-1859068800-1859155199@unlimitedjoy.co.uk
SUMMARY:Award Ceremonies
DESCRIPTION:Hospitality Packages
URL:https://unlimitedjoy.co.uk/event/award-ceremonies/2028-11-29/
CATEGORIES:Culture
ATTACH;FMTTYPE=image/jpeg:https://unlimitedjoy.co.uk/wp-content/uploads/2023/09/9f8662d6-216b-4966-92e1-9301091435c1.jpg
END:VEVENT
BEGIN:VEVENT
DTSTART;VALUE=DATE:20290130
DTEND;VALUE=DATE:20290131
DTSTAMP:20260422T115722
CREATED:20240911T113422Z
LAST-MODIFIED:20240911T113423Z
UID:10005517-1864425600-1864511999@unlimitedjoy.co.uk
SUMMARY:Theatre\, Opera and Ballet
DESCRIPTION:Hospitality Packages
URL:https://unlimitedjoy.co.uk/event/theatre-opera-and-ballet-2/2029-01-30/
CATEGORIES:Culture
ATTACH;FMTTYPE=image/jpeg:https://unlimitedjoy.co.uk/wp-content/uploads/2023/09/9f8662d6-216b-4966-92e1-9301091435c1.jpg
END:VEVENT
BEGIN:VEVENT
DTSTART;VALUE=DATE:20290131
DTEND;VALUE=DATE:20290201
DTSTAMP:20260422T115722
CREATED:20230317T132720Z
LAST-MODIFIED:20250228T143050Z
UID:10005579-1864512000-1864598399@unlimitedjoy.co.uk
SUMMARY:Award Ceremonies
DESCRIPTION:Hospitality Packages
URL:https://unlimitedjoy.co.uk/event/award-ceremonies/2029-01-31/
CATEGORIES:Culture
ATTACH;FMTTYPE=image/jpeg:https://unlimitedjoy.co.uk/wp-content/uploads/2023/09/9f8662d6-216b-4966-92e1-9301091435c1.jpg
END:VEVENT
END:VCALENDAR